OziExplorer Map Data File Version 2.2
BY Auto
by-auto-850k.jpg
1 ,Map Code,
WGS 84,WGS 84, 0.0000, 0.0000,WGS 84
Reserved 1
Reserved 2
Magnetic Variation,,,E
Map Projection,(UTM) Universal Transverse Mercator,PolyCal,No,AutoCalOnly,No,BSBUseWPX,No
Point01,xy, 432, 4083,in, deg, 51, 19.998,N, 24, 0,E, grid, , , ,N
Point02,xy, 2535, 4138,in, deg, 51, 19.998,N, 28, 0,E, grid, , , ,N
Point03,xy, 4636, 4085,in, deg, 51, 19.998,N, 32, 0,E, grid, , , ,N
Point04,xy, 4509, 1853,in, deg, 54, 0,N, 32, 0,E, grid, , , ,N
Point05,xy, 3945, 201,in, deg, 56, 0,N, 31, 0,E, grid, , , ,N
Point06,xy, 3006, 228,in, deg, 56, 0,N, 29, 0,E, grid, , , ,N
Point07,xy, 2067, 225,in, deg, 56, 0,N, 27, 0,E, grid, , , ,N
Point08,xy, 63, 1821,in, deg, 54, 0,N, 23, 0,E, grid, , , ,N
Point09,xy, 2532, 1905,in, deg, 54, 0,N, 28, 0,E, grid, , , ,N
Point10,xy, , ,in, deg, , ,, , ,, grid, , , ,
Point11,xy, , ,in, deg, , ,, , ,, grid, , , ,
Point12,xy, , ,in, deg, , ,, , ,, grid, , , ,
Point13,xy, , ,in, deg, , ,, , ,, grid, , , ,
Point14,xy, , ,in, deg, , ,, , ,, grid, , , ,
Point15,xy, , ,in, deg, , ,, , ,, grid, , , ,
Point16,xy, , ,in, deg, , ,, , ,, grid, , , ,
Point17,xy, , ,in, deg, , ,, , ,, grid, , , ,
Point18,xy, , ,in, deg, , ,, , ,, grid, , , ,
Point19,xy, , ,in, deg, , ,, , ,, grid, , , ,
Point20,xy, , ,in, deg, , ,, , ,, grid, , , ,
Point21,xy, , ,in, deg, , ,, , ,, grid, , , ,
Point22,xy, , ,in, deg, , ,, , ,, grid, , , ,
Point23,xy, , ,in, deg, , ,, , ,, grid, , , ,
Point24,xy, , ,in, deg, , ,, , ,, grid, , , ,
Point25,xy, , ,in, deg, , ,, , ,, grid, , , ,
Point26,xy, , ,in, deg, , ,, , ,, grid, , , ,
Point27,xy, , ,in, deg, , ,, , ,, grid, , , ,
Point28,xy, , ,in, deg, , ,, , ,, grid, , , ,
Point29,xy, , ,in, deg, , ,, , ,, grid, , , ,
Point30,xy, , ,in, deg, , ,, , ,, grid, , , ,
Projection Setup,,,,,,,,,,
Map Feature = MF ; Map Comment = MC These follow if they exist
Track File = TF These follow if they exist
Moving Map Parameters = MM? These follow if they exist
MM0,Yes
MMPNUM,4
MMPXY,1,0,0
MMPXY,2,5000,0
MMPXY,3,5000,4222
MMPXY,4,0,4222
MMPLL,1, 22.585006, 56.157490
MMPLL,2, 33.265672, 56.162663
MMPLL,3, 32.676095, 51.144303
MMPLL,4, 23.196783, 51.135021
MM1B,132.593480
MOP,Map Open Position,0,0
IWH,Map Image Width/Height,5000,4222
