OziExplorer Map Data File Version 2.2
Chernigov
chernigov.ozf2
1 ,Map Code,
Pulkovo 1942 (1),WGS 84, 0.0000, 0.0000,WGS 84
Reserved 1
Reserved 2
Magnetic Variation,,,E
Map Projection,Transverse Mercator,PolyCal,No,AutoCalOnly,No,BSBUseWPX,No
Point01,xy, 585, 202,in, deg, 51, 32.6122,N, 31, 15.7814,E, grid, , , ,N
Point02,xy, 62, 195,in, deg, 51, 32.4974,N, 31, 4.6238,E, grid, , , ,N
Point03,xy, 1100, 214,in, deg, 51, 32.5912,N, 31, 26.5749,E, grid, , , ,N
Point04,xy, 1090, 710,in, deg, 51, 26.0001,N, 31, 26.6780,E, grid, , , ,N
Point05,xy, 699, 793,in, deg, 51, 24.8281,N, 31, 18.4467,E, grid, , , ,N
Point06,xy, 92, 602,in, deg, 51, 27.1029,N, 31, 5.5305,E, grid, , , ,N
Point07,xy, , ,in, deg, , ,N, , ,W, grid, , , ,N
Point08,xy, , ,in, deg, , ,N, , ,W, grid, , , ,N
Point09,xy, , ,in, deg, , ,N, , ,W, grid, , , ,N
Point10,xy, , ,in, deg, , ,N, , ,W, grid, , , ,N
Point11,xy, , ,in, deg, , ,N, , ,W, grid, , , ,N
Point12,xy, , ,in, deg, , ,N, , ,W, grid, , , ,N
Point13,xy, , ,in, deg, , ,N, , ,W, grid, , , ,N
Point14,xy, , ,in, deg, , ,N, , ,W, grid, , , ,N
Point15,xy, , ,in, deg, , ,N, , ,W, grid, , , ,N
Point16,xy, , ,in, deg, , ,N, , ,W, grid, , , ,N
Point17,xy, , ,in, deg, , ,N, , ,W, grid, , , ,N
Point18,xy, , ,in, deg, , ,N, , ,W, grid, , , ,N
Point19,xy, , ,in, deg, , ,N, , ,W, grid, , , ,N
Point20,xy, , ,in, deg, , ,N, , ,W, grid, , , ,N
Point21,xy, , ,in, deg, , ,N, , ,W, grid, , , ,N
Point22,xy, , ,in, deg, , ,N, , ,W, grid, , , ,N
Point23,xy, , ,in, deg, , ,N, , ,W, grid, , , ,N
Point24,xy, , ,in, deg, , ,N, , ,W, grid, , , ,N
Point25,xy, , ,in, deg, , ,N, , ,W, grid, , , ,N
Point26,xy, , ,in, deg, , ,N, , ,W, grid, , , ,N
Point27,xy, , ,in, deg, , ,N, , ,W, grid, , , ,N
Point28,xy, , ,in, deg, , ,N, , ,W, grid, , , ,N
Point29,xy, , ,in, deg, , ,N, , ,W, grid, , , ,N
Point30,xy, , ,in, deg, , ,N, , ,W, grid, , , ,N
Projection Setup, 0.000000000, 33.000000000, 1.000000000, 6500000.00, 0.00,,,,,
Map Feature = MF ; Map Comment = MC These follow if they exist
Track File = TF These follow if they exist
Moving Map Parameters = MM? These follow if they exist
MM0,Yes
MMPNUM,4
MMPXY,1,23,21
MMPXY,2,1158,21
MMPXY,3,1156,830
MMPXY,4,21,832
MMPLL,1, 31.061898, 51.579885
MMPLL,2, 31.462432, 51.586221
MMPLL,3, 31.468609, 51.407506
MMPLL,4, 31.069657, 51.400766
MM1B,24.463354
MOP,Map Open Position,0,0
IWH,Map Image Width/Height,1181,852
