OziExplorer Map Data File Version 2.2
Chernovtsy
chernovtsy.jpg
1 ,Map Code,
Pulkovo 1942 (1),WGS 84, 0.0000, 0.0000,WGS 84
Reserved 1
Reserved 2
Magnetic Variation,,,E
Map Projection,Transverse Mercator,PolyCal,No,AutoCalOnly,No,BSBUseWPX,No
Point01,xy, 371, 595,in, deg, 48, 14.6734,N, 25, 52.1231,E, grid, , , ,N
Point02,xy, 723, 735,in, deg, 48, 12.8797,N, 25, 59.2564,E, grid, , , ,N
Point03,xy, 1114, 673,in, deg, 48, 13.8165,N, 26, 6.8221,E, grid, , , ,N
Point04,xy, 962, 186,in, deg, 48, 20.2433,N, 26, 3.7242,E, grid, , , ,N
Point05,xy, 575, 112,in, deg, 48, 21.0950,N, 25, 56.0676,E, grid, , , ,N
Point06,xy, 247, 100,in, deg, 48, 21.1678,N, 25, 49.4960,E, grid, , , ,N
Point07,xy, , ,in, deg, , ,N, , ,W, grid, , , ,N
Point08,xy, , ,in, deg, , ,N, , ,W, grid, , , ,N
Point09,xy, , ,in, deg, , ,N, , ,W, grid, , , ,N
Point10,xy, , ,in, deg, , ,, , ,, grid, , , ,
Point11,xy, , ,in, deg, , ,, , ,, grid, , , ,
Point12,xy, , ,in, deg, , ,, , ,, grid, , , ,
Point13,xy, , ,in, deg, , ,, , ,, grid, , , ,
Point14,xy, , ,in, deg, , ,, , ,, grid, , , ,
Point15,xy, , ,in, deg, , ,, , ,, grid, , , ,
Point16,xy, , ,in, deg, , ,, , ,, grid, , , ,
Point17,xy, , ,in, deg, , ,, , ,, grid, , , ,
Point18,xy, , ,in, deg, , ,, , ,, grid, , , ,
Point19,xy, , ,in, deg, , ,, , ,, grid, , , ,
Point20,xy, , ,in, deg, , ,, , ,, grid, , , ,
Point21,xy, , ,in, deg, , ,, , ,, grid, , , ,
Point22,xy, , ,in, deg, , ,, , ,, grid, , , ,
Point23,xy, , ,in, deg, , ,, , ,, grid, , , ,
Point24,xy, , ,in, deg, , ,, , ,, grid, , , ,
Point25,xy, , ,in, deg, , ,, , ,, grid, , , ,
Point26,xy, , ,in, deg, , ,, , ,, grid, , , ,
Point27,xy, , ,in, deg, , ,, , ,, grid, , , ,
Point28,xy, , ,in, deg, , ,, , ,, grid, , , ,
Point29,xy, , ,in, deg, , ,, , ,, grid, , , ,
Point30,xy, , ,in, deg, , ,, , ,, grid, , , ,
Projection Setup, 0.000000000, 27.000000000, 1.000000000, 5500000.00, 0.00,,,,,
Map Feature = MF ; Map Comment = MC These follow if they exist
Track File = TF These follow if they exist
Moving Map Parameters = MM? These follow if they exist
MM0,Yes
MMPNUM,4
MMPXY,1,22,22
MMPXY,2,1158,21
MMPXY,3,1156,832
MMPXY,4,20,832
MMPLL,1, 25.750561, 48.368967
MMPLL,2, 26.125888, 48.374383
MMPLL,3, 26.129332, 48.195356
MMPLL,4, 25.755307, 48.190183
MM1B,24.475616
MOP,Map Open Position,0,0
IWH,Map Image Width/Height,1181,855
