OziExplorer Map Data File Version 2.2
Dnepropetrovsk_Dneprodzerzhynsk
dnepropetrovsk_dneprodzerzhynsk.ozf2
1 ,Map Code,
Pulkovo 1942 (1),WGS 84, 0.0000, 0.0000,WGS 84
Reserved 1
Reserved 2
Magnetic Variation,,,E
Map Projection,Transverse Mercator,PolyCal,No,AutoCalOnly,No,BSBUseWPX,No
Point01,xy, 1955, 386,in, deg, 48, 35.4049,N, 35, 9.3007,E, grid, , , ,N
Point02,xy, 1389, 847,in, deg, 48, 29.5463,N, 34, 57.7622,E, grid, , , ,N
Point03,xy, 1185, 232,in, deg, 48, 37.8185,N, 34, 53.8764,E, grid, , , ,N
Point04,xy, 2238, 783,in, deg, 48, 29.9736,N, 35, 14.7728,E, grid, , , ,N
Point05,xy, 2224, 1629,in, deg, 48, 18.6592,N, 35, 14.0170,E, grid, , , ,N
Point06,xy, 1125, 1638,in, deg, 48, 18.9032,N, 34, 52.0203,E, grid, , , ,N
Point07,xy, 182, 1491,in, deg, 48, 21.2244,N, 34, 33.2451,E, grid, , , ,N
Point08,xy, 65, 847,in, deg, 48, 29.8988,N, 34, 31.0271,E, grid, , , ,N
Point09,xy, 238, 424,in, deg, 48, 35.4966,N, 34, 34.6027,E, grid, , , ,N
Point10,xy, , ,in, deg, , ,, , ,, grid, , , ,
Point11,xy, , ,in, deg, , ,, , ,, grid, , , ,
Point12,xy, , ,in, deg, , ,, , ,, grid, , , ,
Point13,xy, , ,in, deg, , ,, , ,, grid, , , ,
Point14,xy, , ,in, deg, , ,, , ,, grid, , , ,
Point15,xy, , ,in, deg, , ,, , ,, grid, , , ,
Point16,xy, , ,in, deg, , ,, , ,, grid, , , ,
Point17,xy, , ,in, deg, , ,, , ,, grid, , , ,
Point18,xy, , ,in, deg, , ,, , ,, grid, , , ,
Point19,xy, , ,in, deg, , ,, , ,, grid, , , ,
Point20,xy, , ,in, deg, , ,, , ,, grid, , , ,
Point21,xy, , ,in, deg, , ,, , ,, grid, , , ,
Point22,xy, , ,in, deg, , ,, , ,, grid, , , ,
Point23,xy, , ,in, deg, , ,, , ,, grid, , , ,
Point24,xy, , ,in, deg, , ,, , ,, grid, , , ,
Point25,xy, , ,in, deg, , ,, , ,, grid, , , ,
Point26,xy, , ,in, deg, , ,, , ,, grid, , , ,
Point27,xy, , ,in, deg, , ,, , ,, grid, , , ,
Point28,xy, , ,in, deg, , ,, , ,, grid, , , ,
Point29,xy, , ,in, deg, , ,, , ,, grid, , , ,
Point30,xy, , ,in, deg, , ,, , ,, grid, , , ,
Projection Setup, 0.000000000, 33.000000000, 1.000000000, 6500000.00, 0.00,,,,,
Map Feature = MF ; Map Comment = MC These follow if they exist
Track File = TF These follow if they exist
Moving Map Parameters = MM? These follow if they exist
MM0,Yes
MMPNUM,4
MMPXY,1,25,29
MMPXY,2,2300,22
MMPXY,3,2301,1740
MMPXY,4,24,1747
MMPLL,1, 34.508626, 48.681532
MMPLL,2, 35.273983, 48.669733
MMPLL,3, 35.259132, 48.285412
MMPLL,4, 34.498864, 48.297067
MM1B,24.779292
MOP,Map Open Position,0,0
IWH,Map Image Width/Height,2323,1764
