OziExplorer Map Data File Version 2.2
Donetsk
donetsk.ozf2
1 ,Map Code,
Pulkovo 1942 (1),WGS 84, 0.0000, 0.0000,WGS 84
Reserved 1
Reserved 2
Magnetic Variation,,,E
Map Projection,Transverse Mercator,PolyCal,No,AutoCalOnly,No,BSBUseWPX,No
Point01,xy, 269, 353,in, deg, 48, 6.4451,N, 37, 32.8310,E, grid, , , ,N
Point02,xy, 1071, 309,in, deg, 48, 7.1479,N, 37, 48.5927,E, grid, , , ,N
Point03,xy, 2114, 335,in, deg, 48, 7.0539,N, 38, 9.3273,E, grid, , , ,N
Point04,xy, 168, 925,in, deg, 47, 58.8935,N, 37, 30.9311,E, grid, , , ,N
Point05,xy, 1323, 795,in, deg, 48, 0.8820,N, 37, 53.8150,E, grid, , , ,N
Point06,xy, 2166, 855,in, deg, 48, 0.2988,N, 38, 10.3787,E, grid, , , ,N
Point07,xy, 2330, 1509,in, deg, 47, 51.6518,N, 38, 13.5823,E, grid, , , ,N
Point08,xy, 1304, 1613,in, deg, 47, 50.0975,N, 37, 53.5396,E, grid, , , ,N
Point09,xy, 429, 1637,in, deg, 47, 49.6326,N, 37, 36.3345,E, grid, , , ,N
Point10,xy, , ,in, deg, , ,N, , ,W, grid, , , ,N
Point11,xy, , ,in, deg, , ,N, , ,W, grid, , , ,N
Point12,xy, , ,in, deg, , ,N, , ,W, grid, , , ,N
Point13,xy, , ,in, deg, , ,N, , ,W, grid, , , ,N
Point14,xy, , ,in, deg, , ,N, , ,W, grid, , , ,N
Point15,xy, , ,in, deg, , ,N, , ,W, grid, , , ,N
Point16,xy, , ,in, deg, , ,N, , ,W, grid, , , ,N
Point17,xy, , ,in, deg, , ,N, , ,W, grid, , , ,N
Point18,xy, , ,in, deg, , ,N, , ,W, grid, , , ,N
Point19,xy, , ,in, deg, , ,N, , ,W, grid, , , ,N
Point20,xy, , ,in, deg, , ,N, , ,W, grid, , , ,N
Point21,xy, , ,in, deg, , ,N, , ,W, grid, , , ,N
Point22,xy, , ,in, deg, , ,N, , ,W, grid, , , ,N
Point23,xy, , ,in, deg, , ,N, , ,W, grid, , , ,N
Point24,xy, , ,in, deg, , ,N, , ,W, grid, , , ,N
Point25,xy, , ,in, deg, , ,N, , ,W, grid, , , ,N
Point26,xy, , ,in, deg, , ,N, , ,W, grid, , , ,N
Point27,xy, , ,in, deg, , ,N, , ,W, grid, , , ,N
Point28,xy, , ,in, deg, , ,N, , ,W, grid, , , ,N
Point29,xy, , ,in, deg, , ,N, , ,W, grid, , , ,N
Point30,xy, , ,in, deg, , ,N, , ,W, grid, , , ,N
Projection Setup, 0.000000000, 39.000000000, 1.000000000, 7500000.00, 0.00,,,,,
Map Feature = MF ; Map Comment = MC These follow if they exist
Track File = TF These follow if they exist
Moving Map Parameters = MM? These follow if they exist
MM0,Yes
MMPNUM,4
MMPXY,1,18,22
MMPXY,2,2338,17
MMPXY,3,2338,1767
MMPXY,4,18,1771
MMPLL,1, 37.462789, 48.178426
MMPLL,2, 38.228088, 48.187808
MMPLL,3, 38.230776, 47.804795
MMPLL,4, 37.471113, 47.795713
MM1B,24.525937
MOP,Map Open Position,0,0
IWH,Map Image Width/Height,2362,1793
