OziExplorer Map Data File Version 2.2
Ivano-frankovsk
ivano-frankovsk.jpg
1 ,Map Code,
Pulkovo 1942 (1),WGS 84, 0.0000, 0.0000,WGS 84
Reserved 1
Reserved 2
Magnetic Variation,,,E
Map Projection,Transverse Mercator,PolyCal,No,AutoCalOnly,No,BSBUseWPX,No
Point01,xy, 119, 63,in, deg, 49, 0.4322,N, 24, 34.5623,E, grid, , , ,N
Point02,xy, 536, 148,in, deg, 48, 59.6848,N, 24, 42.4393,E, grid, , , ,N
Point03,xy, 947, 69,in, deg, 49, 0.9246,N, 24, 50.6199,E, grid, , , ,N
Point04,xy, 231, 705,in, deg, 48, 52.2239,N, 24, 36.7758,E, grid, , , ,N
Point05,xy, 512, 819,in, deg, 48, 50.8228,N, 24, 42.4382,E, grid, , , ,N
Point06,xy, 895, 562,in, deg, 48, 54.2961,N, 24, 49.8635,E, grid, , , ,N
Point07,xy, , ,in, deg, , ,N, , ,W, grid, , , ,N
Point08,xy, , ,in, deg, , ,N, , ,W, grid, , , ,N
Point09,xy, , ,in, deg, , ,N, , ,W, grid, , , ,N
Point10,xy, , ,in, deg, , ,, , ,, grid, , , ,
Point11,xy, , ,in, deg, , ,, , ,, grid, , , ,
Point12,xy, , ,in, deg, , ,, , ,, grid, , , ,
Point13,xy, , ,in, deg, , ,, , ,, grid, , , ,
Point14,xy, , ,in, deg, , ,, , ,, grid, , , ,
Point15,xy, , ,in, deg, , ,, , ,, grid, , , ,
Point16,xy, , ,in, deg, , ,, , ,, grid, , , ,
Point17,xy, , ,in, deg, , ,, , ,, grid, , , ,
Point18,xy, , ,in, deg, , ,, , ,, grid, , , ,
Point19,xy, , ,in, deg, , ,, , ,, grid, , , ,
Point20,xy, , ,in, deg, , ,, , ,, grid, , , ,
Point21,xy, , ,in, deg, , ,, , ,, grid, , , ,
Point22,xy, , ,in, deg, , ,, , ,, grid, , , ,
Point23,xy, , ,in, deg, , ,, , ,, grid, , , ,
Point24,xy, , ,in, deg, , ,, , ,, grid, , , ,
Point25,xy, , ,in, deg, , ,, , ,, grid, , , ,
Point26,xy, , ,in, deg, , ,, , ,, grid, , , ,
Point27,xy, , ,in, deg, , ,, , ,, grid, , , ,
Point28,xy, , ,in, deg, , ,, , ,, grid, , , ,
Point29,xy, , ,in, deg, , ,, , ,, grid, , , ,
Point30,xy, , ,in, deg, , ,, , ,, grid, , , ,
Projection Setup, 0.000000000, 27.000000000, 1.000000000, 5500000.00, 0.00,,,,,
Map Feature = MF ; Map Comment = MC These follow if they exist
Track File = TF These follow if they exist
Moving Map Parameters = MM? These follow if they exist
MM0,Yes
MMPNUM,4
MMPXY,1,16,22
MMPXY,2,1161,22
MMPXY,3,1158,836
MMPXY,4,14,836
MMPLL,1, 24.539743, 49.016546
MMPLL,2, 24.913282, 49.026666
MMPLL,3, 24.916764, 48.848823
MMPLL,4, 24.544873, 48.838745
MM1B,23.878533
MOP,Map Open Position,0,0
IWH,Map Image Width/Height,1181,859
