OziExplorer Map Data File Version 2.2
Khar'kov
khar'kov.ozf2
1 ,Map Code,
Pulkovo 1942 (1),WGS 84, 0.0000, 0.0000,WGS 84
Reserved 1
Reserved 2
Magnetic Variation,,,E
Map Projection,Transverse Mercator,PolyCal,No,AutoCalOnly,No,BSBUseWPX,No
Point01,xy, 182, 322,in, deg, 50, 6.6890,N, 36, 7.9067,E, grid, , , ,N
Point02,xy, 588, 377,in, deg, 50, 6.1249,N, 36, 16.2316,E, grid, , , ,N
Point03,xy, 989, 391,in, deg, 50, 6.1452,N, 36, 24.2725,E, grid, , , ,N
Point04,xy, 1021, 952,in, deg, 49, 59.0065,N, 36, 25.3432,E, grid, , , ,N
Point05,xy, 143, 1014,in, deg, 49, 57.8119,N, 36, 7.8630,E, grid, , , ,N
Point06,xy, 550, 906,in, deg, 49, 59.4449,N, 36, 15.8720,E, grid, , , ,N
Point07,xy, 312, 1554,in, deg, 49, 50.8871,N, 36, 11.6535,E, grid, , , ,N
Point08,xy, 635, 1458,in, deg, 49, 52.2798,N, 36, 18.0523,E, grid, , , ,N
Point09,xy, 1144, 1665,in, deg, 49, 49.7398,N, 36, 28.3252,E, grid, , , ,N
Point10,xy, , ,in, deg, , ,, , ,, grid, , , ,
Point11,xy, , ,in, deg, , ,, , ,, grid, , , ,
Point12,xy, , ,in, deg, , ,, , ,, grid, , , ,
Point13,xy, , ,in, deg, , ,, , ,, grid, , , ,
Point14,xy, , ,in, deg, , ,, , ,, grid, , , ,
Point15,xy, , ,in, deg, , ,, , ,, grid, , , ,
Point16,xy, , ,in, deg, , ,, , ,, grid, , , ,
Point17,xy, , ,in, deg, , ,, , ,, grid, , , ,
Point18,xy, , ,in, deg, , ,, , ,, grid, , , ,
Point19,xy, , ,in, deg, , ,, , ,, grid, , , ,
Point20,xy, , ,in, deg, , ,, , ,, grid, , , ,
Point21,xy, , ,in, deg, , ,, , ,, grid, , , ,
Point22,xy, , ,in, deg, , ,, , ,, grid, , , ,
Point23,xy, , ,in, deg, , ,, , ,, grid, , , ,
Point24,xy, , ,in, deg, , ,, , ,, grid, , , ,
Point25,xy, , ,in, deg, , ,, , ,, grid, , , ,
Point26,xy, , ,in, deg, , ,, , ,, grid, , , ,
Point27,xy, , ,in, deg, , ,, , ,, grid, , , ,
Point28,xy, , ,in, deg, , ,, , ,, grid, , , ,
Point29,xy, , ,in, deg, , ,, , ,, grid, , , ,
Point30,xy, , ,in, deg, , ,, , ,, grid, , , ,
Projection Setup, 0.000000000, 39.000000000, 1.000000000, 7500000.00, 0.00,,,,,
Map Feature = MF ; Map Comment = MC These follow if they exist
Track File = TF These follow if they exist
Moving Map Parameters = MM? These follow if they exist
MM0,Yes
MMPNUM,4
MMPXY,1,12,16
MMPXY,2,1167,13
MMPXY,3,1166,1790
MMPXY,4,12,1793
MMPLL,1, 36.071723, 50.176513
MMPLL,2, 36.458833, 50.184842
MMPLL,3, 36.481692, 49.803291
MMPLL,4, 36.097958, 49.795100
MM1B,23.955034
MOP,Map Open Position,0,0
IWH,Map Image Width/Height,1181,1806
