OziExplorer Map Data File Version 2.2
Kherson
kherson.ozf2
1 ,Map Code,
Pulkovo 1942 (1),WGS 84, 0.0000, 0.0000,WGS 84
Reserved 1
Reserved 2
Magnetic Variation,,,E
Map Projection,Transverse Mercator,PolyCal,No,AutoCalOnly,No,BSBUseWPX,No
Point01,xy, 1114, 148,in, deg, 46, 44.5435,N, 32, 48.9714,E, grid, , , ,N
Point02,xy, 333, 248,in, deg, 46, 43.1407,N, 32, 34.0403,E, grid, , , ,N
Point03,xy, 773, 196,in, deg, 46, 43.9725,N, 32, 42.4384,E, grid, , , ,N
Point04,xy, 203, 370,in, deg, 46, 41.5254,N, 32, 31.5890,E, grid, , , ,N
Point05,xy, 389, 721,in, deg, 46, 36.7951,N, 32, 35.0536,E, grid, , , ,N
Point06,xy, 1032, 719,in, deg, 46, 36.9856,N, 32, 47.4755,E, grid, , , ,N
Point07,xy, 990, 407,in, deg, 46, 41.1350,N, 32, 46.5673,E, grid, , , ,N
Point08,xy, , ,in, deg, , ,N, , ,W, grid, , , ,N
Point09,xy, , ,in, deg, , ,N, , ,W, grid, , , ,N
Point10,xy, , ,in, deg, , ,, , ,, grid, , , ,
Point11,xy, , ,in, deg, , ,, , ,, grid, , , ,
Point12,xy, , ,in, deg, , ,, , ,, grid, , , ,
Point13,xy, , ,in, deg, , ,, , ,, grid, , , ,
Point14,xy, , ,in, deg, , ,, , ,, grid, , , ,
Point15,xy, , ,in, deg, , ,, , ,, grid, , , ,
Point16,xy, , ,in, deg, , ,, , ,, grid, , , ,
Point17,xy, , ,in, deg, , ,, , ,, grid, , , ,
Point18,xy, , ,in, deg, , ,, , ,, grid, , , ,
Point19,xy, , ,in, deg, , ,, , ,, grid, , , ,
Point20,xy, , ,in, deg, , ,, , ,, grid, , , ,
Point21,xy, , ,in, deg, , ,, , ,, grid, , , ,
Point22,xy, , ,in, deg, , ,, , ,, grid, , , ,
Point23,xy, , ,in, deg, , ,, , ,, grid, , , ,
Point24,xy, , ,in, deg, , ,, , ,, grid, , , ,
Point25,xy, , ,in, deg, , ,, , ,, grid, , , ,
Point26,xy, , ,in, deg, , ,, , ,, grid, , , ,
Point27,xy, , ,in, deg, , ,, , ,, grid, , , ,
Point28,xy, , ,in, deg, , ,, , ,, grid, , , ,
Point29,xy, , ,in, deg, , ,, , ,, grid, , , ,
Point30,xy, , ,in, deg, , ,, , ,, grid, , , ,
Projection Setup, 0.000000000, 33.000000000, 1.000000000, 6500000.00, 0.00,,,,,
Map Feature = MF ; Map Comment = MC These follow if they exist
Track File = TF These follow if they exist
Moving Map Parameters = MM? These follow if they exist
MM0,Yes
MMPNUM,4
MMPXY,1,23,20
MMPXY,2,1159,21
MMPXY,3,1157,830
MMPXY,4,21,830
MMPLL,1, 32.467869, 46.769200
MMPLL,2, 32.830741, 46.771786
MMPLL,3, 32.829944, 46.591453
MMPLL,4, 32.468279, 46.588647
MM1B,24.390177
MOP,Map Open Position,0,0
IWH,Map Image Width/Height,1181,853
