OziExplorer Map Data File Version 2.2
Khmel'nitskiy
khmel'nitskiy.ozf2
1 ,Map Code,
Pulkovo 1942 (1),WGS 84, 0.0000, 0.0000,WGS 84
Reserved 1
Reserved 2
Magnetic Variation,,,E
Map Projection,Transverse Mercator,PolyCal,No,AutoCalOnly,No,BSBUseWPX,No
Point01,xy, 327, 191,in, deg, 49, 26.9295,N, 26, 54.6650,E, grid, , , ,N
Point02,xy, 101, 403,in, deg, 49, 24.1032,N, 26, 49.8966,E, grid, , , ,N
Point03,xy, 488, 589,in, deg, 49, 21.6841,N, 26, 57.8166,E, grid, , , ,N
Point04,xy, 906, 457,in, deg, 49, 23.2545,N, 27, 6.1299,E, grid, , , ,N
Point05,xy, 1123, 86,in, deg, 49, 28.1945,N, 27, 10.4647,E, grid, , , ,N
Point06,xy, 766, 67,in, deg, 49, 28.4043,N, 27, 3.2412,E, grid, , , ,N
Point07,xy, 747, 795,in, deg, 49, 18.8696,N, 27, 2.9478,E, grid, , , ,N
Point08,xy, , ,in, deg, , ,N, , ,W, grid, , , ,N
Point09,xy, , ,in, deg, , ,N, , ,W, grid, , , ,N
Point10,xy, , ,in, deg, , ,, , ,, grid, , , ,
Point11,xy, , ,in, deg, , ,, , ,, grid, , , ,
Point12,xy, , ,in, deg, , ,, , ,, grid, , , ,
Point13,xy, , ,in, deg, , ,, , ,, grid, , , ,
Point14,xy, , ,in, deg, , ,, , ,, grid, , , ,
Point15,xy, , ,in, deg, , ,, , ,, grid, , , ,
Point16,xy, , ,in, deg, , ,, , ,, grid, , , ,
Point17,xy, , ,in, deg, , ,, , ,, grid, , , ,
Point18,xy, , ,in, deg, , ,, , ,, grid, , , ,
Point19,xy, , ,in, deg, , ,, , ,, grid, , , ,
Point20,xy, , ,in, deg, , ,, , ,, grid, , , ,
Point21,xy, , ,in, deg, , ,, , ,, grid, , , ,
Point22,xy, , ,in, deg, , ,, , ,, grid, , , ,
Point23,xy, , ,in, deg, , ,, , ,, grid, , , ,
Point24,xy, , ,in, deg, , ,, , ,, grid, , , ,
Point25,xy, , ,in, deg, , ,, , ,, grid, , , ,
Point26,xy, , ,in, deg, , ,, , ,, grid, , , ,
Point27,xy, , ,in, deg, , ,, , ,, grid, , , ,
Point28,xy, , ,in, deg, , ,, , ,, grid, , , ,
Point29,xy, , ,in, deg, , ,, , ,, grid, , , ,
Point30,xy, , ,in, deg, , ,, , ,, grid, , , ,
Projection Setup, 0.000000000, 27.000000000, 1.000000000, 5500000.00, 0.00,,,,,
Map Feature = MF ; Map Comment = MC These follow if they exist
Track File = TF These follow if they exist
Moving Map Parameters = MM? These follow if they exist
MM0,Yes
MMPNUM,4
MMPXY,1,22,22
MMPXY,2,1159,22
MMPXY,3,1157,832
MMPXY,4,20,832
MMPLL,1, 26.806539, 49.485986
MMPLL,2, 27.186519, 49.483049
MMPLL,3, 27.185790, 49.305286
MMPLL,4, 26.807179, 49.308223
MM1B,24.206292
MOP,Map Open Position,0,0
IWH,Map Image Width/Height,1181,855
