OziExplorer Map Data File Version 2.2
Kiev
kiev.ozf2
1 ,Map Code,
Pulkovo 1942 (1),WGS 84, 0.0000, 0.0000,WGS 84
Reserved 1
Reserved 2
Magnetic Variation,,,E
Map Projection,Transverse Mercator,PolyCal,No,AutoCalOnly,No,BSBUseWPX,No
Point01,xy, 336, 348,in, deg, 50, 33.3029,N, 30, 13.1319,E, grid, , , ,N
Point02,xy, 999, 180,in, deg, 50, 35.6447,N, 30, 27.0759,E, grid, , , ,N
Point03,xy, 206, 842,in, deg, 50, 26.5222,N, 30, 10.4053,E, grid, , , ,N
Point04,xy, 640, 1707,in, deg, 50, 15.0661,N, 30, 19.8087,E, grid, , , ,N
Point05,xy, 1299, 1730,in, deg, 50, 14.9063,N, 30, 33.5737,E, grid, , , ,N
Point06,xy, 2152, 1489,in, deg, 50, 18.1716,N, 30, 51.3361,E, grid, , , ,N
Point07,xy, 1346, 934,in, deg, 50, 25.4779,N, 30, 34.2415,E, grid, , , ,N
Point08,xy, 2143, 965,in, deg, 50, 25.1819,N, 30, 50.9558,E, grid, , , ,N
Point09,xy, 2131, 162,in, deg, 50, 35.7983,N, 30, 50.9319,E, grid, , , ,N
Point10,xy, , ,in, deg, , ,N, , ,W, grid, , , ,N
Point11,xy, , ,in, deg, , ,N, , ,W, grid, , , ,N
Point12,xy, , ,in, deg, , ,N, , ,W, grid, , , ,N
Point13,xy, , ,in, deg, , ,N, , ,W, grid, , , ,N
Point14,xy, , ,in, deg, , ,N, , ,W, grid, , , ,N
Point15,xy, , ,in, deg, , ,N, , ,W, grid, , , ,N
Point16,xy, , ,in, deg, , ,N, , ,W, grid, , , ,N
Point17,xy, , ,in, deg, , ,N, , ,W, grid, , , ,N
Point18,xy, , ,in, deg, , ,N, , ,W, grid, , , ,N
Point19,xy, , ,in, deg, , ,N, , ,W, grid, , , ,N
Point20,xy, , ,in, deg, , ,N, , ,W, grid, , , ,N
Point21,xy, , ,in, deg, , ,N, , ,W, grid, , , ,N
Point22,xy, , ,in, deg, , ,N, , ,W, grid, , , ,N
Point23,xy, , ,in, deg, , ,N, , ,W, grid, , , ,N
Point24,xy, , ,in, deg, , ,N, , ,W, grid, , , ,N
Point25,xy, , ,in, deg, , ,N, , ,W, grid, , , ,N
Point26,xy, , ,in, deg, , ,N, , ,W, grid, , , ,N
Point27,xy, , ,in, deg, , ,N, , ,W, grid, , , ,N
Point28,xy, , ,in, deg, , ,N, , ,W, grid, , , ,N
Point29,xy, , ,in, deg, , ,N, , ,W, grid, , , ,N
Point30,xy, , ,in, deg, , ,N, , ,W, grid, , , ,N
Projection Setup, 0.000000000, 33.000000000, 1.000000000, 6500000.00, 0.00,,,,,
Map Feature = MF ; Map Comment = MC These follow if they exist
Track File = TF These follow if they exist
Moving Map Parameters = MM? These follow if they exist
MM0,Yes
MMPNUM,4
MMPXY,1,25,27
MMPXY,2,2338,21
MMPXY,3,2339,1765
MMPXY,4,23,1771
MMPLL,1, 30.108327, 50.624596
MMPLL,2, 30.919600, 50.629720
MMPLL,3, 30.920182, 50.240910
MMPLL,4, 30.114485, 50.235901
MM1B,24.810652
MOP,Map Open Position,0,0
IWH,Map Image Width/Height,2362,1794
