OziExplorer Map Data File Version 2.2
Kirovograd
kirovograd.jpg
1 ,Map Code,
Pulkovo 1942 (1),WGS 84, 0.0000, 0.0000,WGS 84
Reserved 1
Reserved 2
Magnetic Variation,,,E
Map Projection,Transverse Mercator,PolyCal,No,AutoCalOnly,No,BSBUseWPX,No
Point01,xy, 464, 113,in, deg, 48, 35.5586,N, 32, 14.3286,E, grid, , , ,N
Point02,xy, 56, 450,in, deg, 48, 31.0565,N, 32, 6.3153,E, grid, , , ,N
Point03,xy, 127, 737,in, deg, 48, 27.2356,N, 32, 7.7136,E, grid, , , ,N
Point04,xy, 540, 725,in, deg, 48, 27.3844,N, 32, 16.0226,E, grid, , , ,N
Point05,xy, 953, 608,in, deg, 48, 29.0010,N, 32, 24.4868,E, grid, , , ,N
Point06,xy, 1072, 287,in, deg, 48, 33.2577,N, 32, 26.7365,E, grid, , , ,N
Point07,xy, , ,in, deg, , ,N, , ,W, grid, , , ,N
Point08,xy, , ,in, deg, , ,N, , ,W, grid, , , ,N
Point09,xy, , ,in, deg, , ,N, , ,W, grid, , , ,N
Point10,xy, , ,in, deg, , ,, , ,, grid, , , ,
Point11,xy, , ,in, deg, , ,, , ,, grid, , , ,
Point12,xy, , ,in, deg, , ,, , ,, grid, , , ,
Point13,xy, , ,in, deg, , ,, , ,, grid, , , ,
Point14,xy, , ,in, deg, , ,, , ,, grid, , , ,
Point15,xy, , ,in, deg, , ,, , ,, grid, , , ,
Point16,xy, , ,in, deg, , ,, , ,, grid, , , ,
Point17,xy, , ,in, deg, , ,, , ,, grid, , , ,
Point18,xy, , ,in, deg, , ,, , ,, grid, , , ,
Point19,xy, , ,in, deg, , ,, , ,, grid, , , ,
Point20,xy, , ,in, deg, , ,, , ,, grid, , , ,
Point21,xy, , ,in, deg, , ,, , ,, grid, , , ,
Point22,xy, , ,in, deg, , ,, , ,, grid, , , ,
Point23,xy, , ,in, deg, , ,, , ,, grid, , , ,
Point24,xy, , ,in, deg, , ,, , ,, grid, , , ,
Point25,xy, , ,in, deg, , ,, , ,, grid, , , ,
Point26,xy, , ,in, deg, , ,, , ,, grid, , , ,
Point27,xy, , ,in, deg, , ,, , ,, grid, , , ,
Point28,xy, , ,in, deg, , ,, , ,, grid, , , ,
Point29,xy, , ,in, deg, , ,, , ,, grid, , , ,
Point30,xy, , ,in, deg, , ,, , ,, grid, , , ,
Projection Setup, 0.000000000, 33.000000000, 1.000000000, 6500000.00, 0.00,,,,,
Map Feature = MF ; Map Comment = MC These follow if they exist
Track File = TF These follow if they exist
Moving Map Parameters = MM? These follow if they exist
MM0,Yes
MMPNUM,4
MMPXY,1,27,23
MMPXY,2,1159,23
MMPXY,3,1156,831
MMPXY,4,25,830
MMPLL,1, 32.091558, 48.612280
MMPLL,2, 32.474106, 48.613007
MMPLL,3, 32.476172, 48.433527
MMPLL,4, 32.095305, 48.433038
MM1B,24.909723
MOP,Map Open Position,0,0
IWH,Map Image Width/Height,1181,854
