OziExplorer Map Data File Version 2.2
Krivoy_rog
krivoy_rog.jpg
1 ,Map Code,
Pulkovo 1942 (1),WGS 84, 0.0000, 0.0000,WGS 84
Reserved 1
Reserved 2
Magnetic Variation,,,E
Map Projection,Transverse Mercator,PolyCal,No,AutoCalOnly,No,BSBUseWPX,No
Point01,xy, 64, 1521,in, deg, 47, 51.1841,N, 33, 14.4589,E, grid, , , ,N
Point02,xy, 640, 1577,in, deg, 47, 50.3540,N, 33, 25.7186,E, grid, , , ,N
Point03,xy, 1108, 1520,in, deg, 47, 51.0587,N, 33, 34.8851,E, grid, , , ,N
Point04,xy, 1046, 1092,in, deg, 47, 56.6992,N, 33, 33.6967,E, grid, , , ,N
Point05,xy, 453, 1057,in, deg, 47, 57.2492,N, 33, 22.1453,E, grid, , , ,N
Point06,xy, 60, 217,in, deg, 48, 8.3243,N, 33, 14.4098,E, grid, , , ,N
Point07,xy, 1137, 398,in, deg, 48, 5.8713,N, 33, 35.5839,E, grid, , , ,N
Point08,xy, 573, 397,in, deg, 48, 5.9007,N, 33, 24.4997,E, grid, , , ,N
Point09,xy, , ,in, deg, , ,N, , ,W, grid, , , ,N
Point10,xy, , ,in, deg, , ,, , ,, grid, , , ,
Point11,xy, , ,in, deg, , ,, , ,, grid, , , ,
Point12,xy, , ,in, deg, , ,, , ,, grid, , , ,
Point13,xy, , ,in, deg, , ,, , ,, grid, , , ,
Point14,xy, , ,in, deg, , ,, , ,, grid, , , ,
Point15,xy, , ,in, deg, , ,, , ,, grid, , , ,
Point16,xy, , ,in, deg, , ,, , ,, grid, , , ,
Point17,xy, , ,in, deg, , ,, , ,, grid, , , ,
Point18,xy, , ,in, deg, , ,, , ,, grid, , , ,
Point19,xy, , ,in, deg, , ,, , ,, grid, , , ,
Point20,xy, , ,in, deg, , ,, , ,, grid, , , ,
Point21,xy, , ,in, deg, , ,, , ,, grid, , , ,
Point22,xy, , ,in, deg, , ,, , ,, grid, , , ,
Point23,xy, , ,in, deg, , ,, , ,, grid, , , ,
Point24,xy, , ,in, deg, , ,, , ,, grid, , , ,
Point25,xy, , ,in, deg, , ,, , ,, grid, , , ,
Point26,xy, , ,in, deg, , ,, , ,, grid, , , ,
Point27,xy, , ,in, deg, , ,, , ,, grid, , , ,
Point28,xy, , ,in, deg, , ,, , ,, grid, , , ,
Point29,xy, , ,in, deg, , ,, , ,, grid, , , ,
Point30,xy, , ,in, deg, , ,, , ,, grid, , , ,
Projection Setup, 0.000000000, 33.000000000, 1.000000000, 6500000.00, 0.00,,,,,
Map Feature = MF ; Map Comment = MC These follow if they exist
Track File = TF These follow if they exist
Moving Map Parameters = MM? These follow if they exist
MM0,Yes
MMPNUM,4
MMPXY,1,23,25
MMPXY,2,1159,22
MMPXY,3,1158,1764
MMPXY,4,22,1767
MMPLL,1, 33.228343, 48.181125
MMPLL,2, 33.600943, 48.179812
MMPLL,3, 33.597202, 47.797420
MMPLL,4, 33.227345, 47.798717
MM1B,24.382433
MOP,Map Open Position,0,0
IWH,Map Image Width/Height,1181,1789
