OziExplorer Map Data File Version 2.2
L'vov
l'vov.ozf2
1 ,Map Code,
Pulkovo 1942 (1),WGS 84, 0.0000, 0.0000,WGS 84
Reserved 1
Reserved 2
Magnetic Variation,,,E
Map Projection,Transverse Mercator,PolyCal,No,AutoCalOnly,No,BSBUseWPX,No
Point01,xy, 946, 149,in, deg, 49, 53.8520,N, 24, 8.3873,E, grid, , , ,N
Point02,xy, 938, 629,in, deg, 49, 47.3991,N, 24, 8.5428,E, grid, , , ,N
Point03,xy, 565, 711,in, deg, 49, 46.1426,N, 24, 0.9469,E, grid, , , ,N
Point04,xy, 207, 477,in, deg, 49, 49.0003,N, 23, 53.6878,E, grid, , , ,N
Point05,xy, 237, 229,in, deg, 49, 52.3852,N, 23, 54.0416,E, grid, , , ,N
Point06,xy, 730, 224,in, deg, 49, 52.6457,N, 24, 3.9194,E, grid, , , ,N
Point07,xy, , ,in, deg, , ,N, , ,W, grid, , , ,N
Point08,xy, , ,in, deg, , ,N, , ,W, grid, , , ,N
Point09,xy, , ,in, deg, , ,N, , ,W, grid, , , ,N
Point10,xy, , ,in, deg, , ,, , ,, grid, , , ,
Point11,xy, , ,in, deg, , ,, , ,, grid, , , ,
Point12,xy, , ,in, deg, , ,, , ,, grid, , , ,
Point13,xy, , ,in, deg, , ,, , ,, grid, , , ,
Point14,xy, , ,in, deg, , ,, , ,, grid, , , ,
Point15,xy, , ,in, deg, , ,, , ,, grid, , , ,
Point16,xy, , ,in, deg, , ,, , ,, grid, , , ,
Point17,xy, , ,in, deg, , ,, , ,, grid, , , ,
Point18,xy, , ,in, deg, , ,, , ,, grid, , , ,
Point19,xy, , ,in, deg, , ,, , ,, grid, , , ,
Point20,xy, , ,in, deg, , ,, , ,, grid, , , ,
Point21,xy, , ,in, deg, , ,, , ,, grid, , , ,
Point22,xy, , ,in, deg, , ,, , ,, grid, , , ,
Point23,xy, , ,in, deg, , ,, , ,, grid, , , ,
Point24,xy, , ,in, deg, , ,, , ,, grid, , , ,
Point25,xy, , ,in, deg, , ,, , ,, grid, , , ,
Point26,xy, , ,in, deg, , ,, , ,, grid, , , ,
Point27,xy, , ,in, deg, , ,, , ,, grid, , , ,
Point28,xy, , ,in, deg, , ,, , ,, grid, , , ,
Point29,xy, , ,in, deg, , ,, , ,, grid, , , ,
Point30,xy, , ,in, deg, , ,, , ,, grid, , , ,
Projection Setup, 0.000000000, 27.000000000, 1.000000000, 5500000.00, 0.00,,,,,
Map Feature = MF ; Map Comment = MC These follow if they exist
Track File = TF These follow if they exist
Moving Map Parameters = MM? These follow if they exist
MM0,Yes
MMPNUM,4
MMPXY,1,22,20
MMPXY,2,1159,21
MMPXY,3,1157,831
MMPXY,4,20,831
MMPLL,1, 23.825664, 49.916930
MMPLL,2, 24.209438, 49.927325
MMPLL,3, 24.217423, 49.747199
MMPLL,4, 23.835080, 49.736635
MM1B,24.264489
MOP,Map Open Position,0,0
IWH,Map Image Width/Height,1181,854
