OziExplorer Map Data File Version 2.2
Lugansk
lugansk.ozf2
1 ,Map Code,
Pulkovo 1942 (1),WGS 84, 0.0000, 0.0000,WGS 84
Reserved 1
Reserved 2
Magnetic Variation,,,E
Map Projection,Transverse Mercator,PolyCal,No,AutoCalOnly,No,BSBUseWPX,No
Point01,xy, 99, 300,in, deg, 48, 35.8582,N, 39, 7.9113,E, grid, , , ,N
Point02,xy, 576, 129,in, deg, 48, 38.0432,N, 39, 17.4320,E, grid, , , ,N
Point03,xy, 1056, 206,in, deg, 48, 37.0544,N, 39, 26.9914,E, grid, , , ,N
Point04,xy, 994, 653,in, deg, 48, 31.1360,N, 39, 25.6969,E, grid, , , ,N
Point05,xy, 598, 732,in, deg, 48, 29.9223,N, 39, 17.7258,E, grid, , , ,N
Point06,xy, 293, 618,in, deg, 48, 31.6803,N, 39, 11.7642,E, grid, , , ,N
Point07,xy, 657, 427,in, deg, 48, 34.1340,N, 39, 19.0075,E, grid, , , ,N
Point08,xy, , ,in, deg, , ,N, , ,W, grid, , , ,N
Point09,xy, , ,in, deg, , ,N, , ,W, grid, , , ,N
Point10,xy, , ,in, deg, , ,, , ,, grid, , , ,
Point11,xy, , ,in, deg, , ,, , ,, grid, , , ,
Point12,xy, , ,in, deg, , ,, , ,, grid, , , ,
Point13,xy, , ,in, deg, , ,, , ,, grid, , , ,
Point14,xy, , ,in, deg, , ,, , ,, grid, , , ,
Point15,xy, , ,in, deg, , ,, , ,, grid, , , ,
Point16,xy, , ,in, deg, , ,, , ,, grid, , , ,
Point17,xy, , ,in, deg, , ,, , ,, grid, , , ,
Point18,xy, , ,in, deg, , ,, , ,, grid, , , ,
Point19,xy, , ,in, deg, , ,, , ,, grid, , , ,
Point20,xy, , ,in, deg, , ,, , ,, grid, , , ,
Point21,xy, , ,in, deg, , ,, , ,, grid, , , ,
Point22,xy, , ,in, deg, , ,, , ,, grid, , , ,
Point23,xy, , ,in, deg, , ,, , ,, grid, , , ,
Point24,xy, , ,in, deg, , ,, , ,, grid, , , ,
Point25,xy, , ,in, deg, , ,, , ,, grid, , , ,
Point26,xy, , ,in, deg, , ,, , ,, grid, , , ,
Point27,xy, , ,in, deg, , ,, , ,, grid, , , ,
Point28,xy, , ,in, deg, , ,, , ,, grid, , , ,
Point29,xy, , ,in, deg, , ,, , ,, grid, , , ,
Point30,xy, , ,in, deg, , ,, , ,, grid, , , ,
Projection Setup, 0.000000000, 39.000000000, 1.000000000, 7500000.00, 0.00,,,,,
Map Feature = MF ; Map Comment = MC These follow if they exist
Track File = TF These follow if they exist
Moving Map Parameters = MM? These follow if they exist
MM0,Yes
MMPNUM,4
MMPXY,1,23,22
MMPXY,2,1156,23
MMPXY,3,1154,831
MMPXY,4,21,831
MMPLL,1, 39.107178, 48.659296
MMPLL,2, 39.483798, 48.657841
MMPLL,3, 39.480187, 48.478116
MMPLL,4, 39.104897, 48.479336
MM1B,24.480042
MOP,Map Open Position,0,0
IWH,Map Image Width/Height,1181,854
