OziExplorer Map Data File Version 2.2
Lutsk
lutsk.jpg
1 ,Map Code,
Pulkovo 1942 (1),WGS 84, 0.0000, 0.0000,WGS 84
Reserved 1
Reserved 2
Magnetic Variation,,,E
Map Projection,Transverse Mercator,PolyCal,No,AutoCalOnly,No,BSBUseWPX,No
Point01,xy, 363, 213,in, deg, 50, 48.1022,N, 25, 15.5818,E, grid, , , ,N
Point02,xy, 922, 35,in, deg, 50, 50.6306,N, 25, 27.0258,E, grid, , , ,N
Point03,xy, 944, 463,in, deg, 50, 44.9796,N, 25, 27.7587,E, grid, , , ,N
Point04,xy, 864, 698,in, deg, 50, 41.8392,N, 25, 26.1352,E, grid, , , ,N
Point05,xy, 429, 668,in, deg, 50, 42.1788,N, 25, 17.1257,E, grid, , , ,N
Point06,xy, 253, 474,in, deg, 50, 44.6130,N, 25, 13.2951,E, grid, , , ,N
Point07,xy, , ,in, deg, , ,N, , ,W, grid, , , ,N
Point08,xy, , ,in, deg, , ,N, , ,W, grid, , , ,N
Point09,xy, , ,in, deg, , ,N, , ,W, grid, , , ,N
Point10,xy, , ,in, deg, , ,, , ,, grid, , , ,
Point11,xy, , ,in, deg, , ,, , ,, grid, , , ,
Point12,xy, , ,in, deg, , ,, , ,, grid, , , ,
Point13,xy, , ,in, deg, , ,, , ,, grid, , , ,
Point14,xy, , ,in, deg, , ,, , ,, grid, , , ,
Point15,xy, , ,in, deg, , ,, , ,, grid, , , ,
Point16,xy, , ,in, deg, , ,, , ,, grid, , , ,
Point17,xy, , ,in, deg, , ,, , ,, grid, , , ,
Point18,xy, , ,in, deg, , ,, , ,, grid, , , ,
Point19,xy, , ,in, deg, , ,, , ,, grid, , , ,
Point20,xy, , ,in, deg, , ,, , ,, grid, , , ,
Point21,xy, , ,in, deg, , ,, , ,, grid, , , ,
Point22,xy, , ,in, deg, , ,, , ,, grid, , , ,
Point23,xy, , ,in, deg, , ,, , ,, grid, , , ,
Point24,xy, , ,in, deg, , ,, , ,, grid, , , ,
Point25,xy, , ,in, deg, , ,, , ,, grid, , , ,
Point26,xy, , ,in, deg, , ,, , ,, grid, , , ,
Point27,xy, , ,in, deg, , ,, , ,, grid, , , ,
Point28,xy, , ,in, deg, , ,, , ,, grid, , , ,
Point29,xy, , ,in, deg, , ,, , ,, grid, , , ,
Point30,xy, , ,in, deg, , ,, , ,, grid, , , ,
Projection Setup, 0.000000000, 27.000000000, 1.000000000, 5500000.00, 0.00,,,,,
Map Feature = MF ; Map Comment = MC These follow if they exist
Track File = TF These follow if they exist
Moving Map Parameters = MM? These follow if they exist
MM0,Yes
MMPNUM,4
MMPXY,1,24,21
MMPXY,2,1159,21
MMPXY,3,1157,831
MMPXY,4,22,830
MMPLL,1, 25.139356, 50.842246
MMPLL,2, 25.533333, 50.847743
MMPLL,3, 25.538230, 50.669770
MMPLL,4, 25.145735, 50.664526
MM1B,24.448488
MOP,Map Open Position,0,0
IWH,Map Image Width/Height,1181,853
