OziExplorer Map Data File Version 2.2
Mariupol
mariupol.ozf2
1 ,Map Code,
Pulkovo 1942 (1),WGS 84, 0.0000, 0.0000,WGS 84
Reserved 1
Reserved 2
Magnetic Variation,,,E
Map Projection,Transverse Mercator,PolyCal,No,AutoCalOnly,No,BSBUseWPX,No
Point01,xy, 564, 115,in, deg, 47, 11.6877,N, 37, 34.4500,E, grid, , , ,N
Point02,xy, 1022, 163,in, deg, 47, 11.1347,N, 37, 43.3902,E, grid, , , ,N
Point03,xy, 985, 586,in, deg, 47, 5.4889,N, 37, 42.8280,E, grid, , , ,N
Point04,xy, 705, 530,in, deg, 47, 6.2068,N, 37, 37.3082,E, grid, , , ,N
Point05,xy, 228, 177,in, deg, 47, 10.7762,N, 37, 27.9523,E, grid, , , ,N
Point06,xy, 46, 614,in, deg, 47, 4.8998,N, 37, 24.5126,E, grid, , , ,N
Point07,xy, 362, 462,in, deg, 47, 6.9803,N, 37, 30.7436,E, grid, , , ,N
Point08,xy, , ,in, deg, , ,N, , ,W, grid, , , ,N
Point09,xy, , ,in, deg, , ,N, , ,W, grid, , , ,N
Point10,xy, , ,in, deg, , ,N, , ,W, grid, , , ,N
Point11,xy, , ,in, deg, , ,N, , ,W, grid, , , ,N
Point12,xy, , ,in, deg, , ,N, , ,W, grid, , , ,N
Point13,xy, , ,in, deg, , ,N, , ,W, grid, , , ,N
Point14,xy, , ,in, deg, , ,N, , ,W, grid, , , ,N
Point15,xy, , ,in, deg, , ,N, , ,W, grid, , , ,N
Point16,xy, , ,in, deg, , ,N, , ,W, grid, , , ,N
Point17,xy, , ,in, deg, , ,N, , ,W, grid, , , ,N
Point18,xy, , ,in, deg, , ,N, , ,W, grid, , , ,N
Point19,xy, , ,in, deg, , ,N, , ,W, grid, , , ,N
Point20,xy, , ,in, deg, , ,N, , ,W, grid, , , ,N
Point21,xy, , ,in, deg, , ,N, , ,W, grid, , , ,N
Point22,xy, , ,in, deg, , ,N, , ,W, grid, , , ,N
Point23,xy, , ,in, deg, , ,N, , ,W, grid, , , ,N
Point24,xy, , ,in, deg, , ,N, , ,W, grid, , , ,N
Point25,xy, , ,in, deg, , ,N, , ,W, grid, , , ,N
Point26,xy, , ,in, deg, , ,N, , ,W, grid, , , ,N
Point27,xy, , ,in, deg, , ,N, , ,W, grid, , , ,N
Point28,xy, , ,in, deg, , ,N, , ,W, grid, , , ,N
Point29,xy, , ,in, deg, , ,N, , ,W, grid, , , ,N
Point30,xy, , ,in, deg, , ,N, , ,W, grid, , , ,N
Projection Setup, 0.000000000, 39.000000000, 1.000000000, 7500000.00, 0.00,,,,,
Map Feature = MF ; Map Comment = MC These follow if they exist
Track File = TF These follow if they exist
Moving Map Parameters = MM? These follow if they exist
MM0,Yes
MMPNUM,4
MMPXY,1,25,22
MMPXY,2,1153,21
MMPXY,3,1153,826
MMPXY,4,23,827
MMPLL,1, 37.398850, 47.213090
MMPLL,2, 37.765273, 47.217727
MMPLL,3, 37.769078, 47.038826
MMPLL,4, 37.403233, 47.034207
MM1B,24.605086
MOP,Map Open Position,0,0
IWH,Map Image Width/Height,1181,852
