OziExplorer Map Data File Version 2.2
Odessa
odessa.jpg
1 ,Map Code,
Pulkovo 1942 (1),WGS 84, 0.0000, 0.0000,WGS 84
Reserved 1
Reserved 2
Magnetic Variation,,,E
Map Projection,Transverse Mercator,PolyCal,No,AutoCalOnly,No,BSBUseWPX,No
Point01,xy, 481, 589,in, deg, 46, 31.0926,N, 30, 37.2204,E, grid, , , ,N
Point02,xy, 295, 252,in, deg, 46, 35.6423,N, 30, 33.9323,E, grid, , , ,N
Point03,xy, 1107, 111,in, deg, 46, 36.9618,N, 30, 49.6665,E, grid, , , ,N
Point04,xy, 844, 774,in, deg, 46, 28.4193,N, 30, 43.9703,E, grid, , , ,N
Point05,xy, 188, 1618,in, deg, 46, 17.8091,N, 30, 30.6138,E, grid, , , ,N
Point06,xy, 655, 1300,in, deg, 46, 21.6514,N, 30, 39.9348,E, grid, , , ,N
Point07,xy, 121, 822,in, deg, 46, 28.3219,N, 30, 30.1227,E, grid, , , ,N
Point08,xy, , ,in, deg, , ,N, , ,W, grid, , , ,N
Point09,xy, , ,in, deg, , ,N, , ,W, grid, , , ,N
Point10,xy, , ,in, deg, , ,N, , ,W, grid, , , ,N
Point11,xy, , ,in, deg, , ,N, , ,W, grid, , , ,N
Point12,xy, , ,in, deg, , ,N, , ,W, grid, , , ,N
Point13,xy, , ,in, deg, , ,N, , ,W, grid, , , ,N
Point14,xy, , ,in, deg, , ,N, , ,W, grid, , , ,N
Point15,xy, , ,in, deg, , ,N, , ,W, grid, , , ,N
Point16,xy, , ,in, deg, , ,N, , ,W, grid, , , ,N
Point17,xy, , ,in, deg, , ,N, , ,W, grid, , , ,N
Point18,xy, , ,in, deg, , ,N, , ,W, grid, , , ,N
Point19,xy, , ,in, deg, , ,N, , ,W, grid, , , ,N
Point20,xy, , ,in, deg, , ,N, , ,W, grid, , , ,N
Point21,xy, , ,in, deg, , ,N, , ,W, grid, , , ,N
Point22,xy, , ,in, deg, , ,N, , ,W, grid, , , ,N
Point23,xy, , ,in, deg, , ,N, , ,W, grid, , , ,N
Point24,xy, , ,in, deg, , ,N, , ,W, grid, , , ,N
Point25,xy, , ,in, deg, , ,N, , ,W, grid, , , ,N
Point26,xy, , ,in, deg, , ,N, , ,W, grid, , , ,N
Point27,xy, , ,in, deg, , ,N, , ,W, grid, , , ,N
Point28,xy, , ,in, deg, , ,N, , ,W, grid, , , ,N
Point29,xy, , ,in, deg, , ,N, , ,W, grid, , , ,N
Point30,xy, , ,in, deg, , ,N, , ,W, grid, , , ,N
Projection Setup, 0.000000000, 33.000000000, 1.000000000, 6500000.00, 0.00,,,,,
Map Feature = MF ; Map Comment = MC These follow if they exist
Track File = TF These follow if they exist
Moving Map Parameters = MM? These follow if they exist
MM0,Yes
MMPNUM,4
MMPXY,1,22,25
MMPXY,2,1156,21
MMPXY,3,1157,1769
MMPXY,4,21,1772
MMPLL,1, 30.481710, 46.647017
MMPLL,2, 30.845128, 46.634788
MMPLL,3, 30.817119, 46.252472
MMPLL,4, 30.455616, 46.264905
MM1B,24.483995
MOP,Map Open Position,0,0
IWH,Map Image Width/Height,1181,1796
