OziExplorer Map Data File Version 2.2
Poltava
poltava.ozf2
1 ,Map Code,
Pulkovo 1942 (1),WGS 84, 0.0000, 0.0000,WGS 84
Reserved 1
Reserved 2
Magnetic Variation,,,E
Map Projection,Transverse Mercator,PolyCal,No,AutoCalOnly,No,BSBUseWPX,No
Point01,xy, 959, 725,in, deg, 49, 31.1709,N, 34, 41.9022,E, grid, , , ,N
Point02,xy, 804, 214,in, deg, 49, 37.9932,N, 34, 38.9421,E, grid, , , ,N
Point03,xy, 137, 141,in, deg, 49, 39.0995,N, 34, 25.4280,E, grid, , , ,N
Point04,xy, 174, 738,in, deg, 49, 31.2492,N, 34, 25.8970,E, grid, , , ,N
Point05,xy, 446, 555,in, deg, 49, 33.6116,N, 34, 31.6217,E, grid, , , ,N
Point06,xy, 1024, 438,in, deg, 49, 34.9609,N, 34, 43.3031,E, grid, , , ,N
Point07,xy, , ,in, deg, , ,N, , ,W, grid, , , ,N
Point08,xy, , ,in, deg, , ,N, , ,W, grid, , , ,N
Point09,xy, , ,in, deg, , ,N, , ,W, grid, , , ,N
Point10,xy, , ,in, deg, , ,N, , ,W, grid, , , ,N
Point11,xy, , ,in, deg, , ,N, , ,W, grid, , , ,N
Point12,xy, , ,in, deg, , ,N, , ,W, grid, , , ,N
Point13,xy, , ,in, deg, , ,N, , ,W, grid, , , ,N
Point14,xy, , ,in, deg, , ,N, , ,W, grid, , , ,N
Point15,xy, , ,in, deg, , ,N, , ,W, grid, , , ,N
Point16,xy, , ,in, deg, , ,N, , ,W, grid, , , ,N
Point17,xy, , ,in, deg, , ,N, , ,W, grid, , , ,N
Point18,xy, , ,in, deg, , ,N, , ,W, grid, , , ,N
Point19,xy, , ,in, deg, , ,N, , ,W, grid, , , ,N
Point20,xy, , ,in, deg, , ,N, , ,W, grid, , , ,N
Point21,xy, , ,in, deg, , ,N, , ,W, grid, , , ,N
Point22,xy, , ,in, deg, , ,N, , ,W, grid, , , ,N
Point23,xy, , ,in, deg, , ,N, , ,W, grid, , , ,N
Point24,xy, , ,in, deg, , ,N, , ,W, grid, , , ,N
Point25,xy, , ,in, deg, , ,N, , ,W, grid, , , ,N
Point26,xy, , ,in, deg, , ,N, , ,W, grid, , , ,N
Point27,xy, , ,in, deg, , ,N, , ,W, grid, , , ,N
Point28,xy, , ,in, deg, , ,N, , ,W, grid, , , ,N
Point29,xy, , ,in, deg, , ,N, , ,W, grid, , , ,N
Point30,xy, , ,in, deg, , ,N, , ,W, grid, , , ,N
Projection Setup, 0.000000000, 33.000000000, 1.000000000, 6500000.00, 0.00,,,,,
Map Feature = MF ; Map Comment = MC These follow if they exist
Track File = TF These follow if they exist
Moving Map Parameters = MM? These follow if they exist
MM0,Yes
MMPNUM,4
MMPXY,1,25,27
MMPXY,2,1158,27
MMPXY,3,1155,836
MMPXY,4,22,835
MMPLL,1, 34.386415, 49.677558
MMPLL,2, 34.770748, 49.672211
MMPLL,3, 34.763488, 49.494556
MMPLL,4, 34.380553, 49.500088
MM1B,24.484147
MOP,Map Open Position,0,0
IWH,Map Image Width/Height,1181,859
