OziExplorer Map Data File Version 2.2
Rovno
rovno.jpg
1 ,Map Code,
Pulkovo 1942 (1),WGS 84, 0.0000, 0.0000,WGS 84
Reserved 1
Reserved 2
Magnetic Variation,,,E
Map Projection,Transverse Mercator,PolyCal,No,AutoCalOnly,No,BSBUseWPX,No
Point01,xy, 119, 624,in, deg, 50, 33.6445,N, 26, 6.0654,E, grid, , , ,N
Point02,xy, 568, 776,in, deg, 50, 31.7251,N, 26, 15.4238,E, grid, , , ,N
Point03,xy, 1023, 437,in, deg, 50, 36.2622,N, 26, 24.7236,E, grid, , , ,N
Point04,xy, 735, 127,in, deg, 50, 40.2855,N, 26, 18.6709,E, grid, , , ,N
Point05,xy, 232, 60,in, deg, 50, 41.0675,N, 26, 8.1773,E, grid, , , ,N
Point06,xy, 577, 367,in, deg, 50, 37.1721,N, 26, 15.2700,E, grid, , , ,N
Point07,xy, 97, 374,in, deg, 50, 36.9556,N, 26, 5.3994,E, grid, , , ,N
Point08,xy, , ,in, deg, , ,N, , ,W, grid, , , ,N
Point09,xy, , ,in, deg, , ,N, , ,W, grid, , , ,N
Point10,xy, , ,in, deg, , ,, , ,, grid, , , ,
Point11,xy, , ,in, deg, , ,, , ,, grid, , , ,
Point12,xy, , ,in, deg, , ,, , ,, grid, , , ,
Point13,xy, , ,in, deg, , ,, , ,, grid, , , ,
Point14,xy, , ,in, deg, , ,, , ,, grid, , , ,
Point15,xy, , ,in, deg, , ,, , ,, grid, , , ,
Point16,xy, , ,in, deg, , ,, , ,, grid, , , ,
Point17,xy, , ,in, deg, , ,, , ,, grid, , , ,
Point18,xy, , ,in, deg, , ,, , ,, grid, , , ,
Point19,xy, , ,in, deg, , ,, , ,, grid, , , ,
Point20,xy, , ,in, deg, , ,, , ,, grid, , , ,
Point21,xy, , ,in, deg, , ,, , ,, grid, , , ,
Point22,xy, , ,in, deg, , ,, , ,, grid, , , ,
Point23,xy, , ,in, deg, , ,, , ,, grid, , , ,
Point24,xy, , ,in, deg, , ,, , ,, grid, , , ,
Point25,xy, , ,in, deg, , ,, , ,, grid, , , ,
Point26,xy, , ,in, deg, , ,, , ,, grid, , , ,
Point27,xy, , ,in, deg, , ,, , ,, grid, , , ,
Point28,xy, , ,in, deg, , ,, , ,, grid, , , ,
Point29,xy, , ,in, deg, , ,, , ,, grid, , , ,
Point30,xy, , ,in, deg, , ,, , ,, grid, , , ,
Projection Setup, 0.000000000, 27.000000000, 1.000000000, 5500000.00, 0.00,,,,,
Map Feature = MF ; Map Comment = MC These follow if they exist
Track File = TF These follow if they exist
Moving Map Parameters = MM? These follow if they exist
MM0,Yes
MMPNUM,4
MMPXY,1,25,24
MMPXY,2,1155,26
MMPXY,3,1152,831
MMPXY,4,22,831
MMPLL,1, 26.063406, 50.692051
MMPLL,2, 26.455326, 50.694807
MMPLL,3, 26.458629, 50.518453
MMPLL,4, 26.068186, 50.515279
MM1B,24.499388
MOP,Map Open Position,0,0
IWH,Map Image Width/Height,1181,856
