OziExplorer Map Data File Version 2.2
Ternopol
ternopol.ozf2
1 ,Map Code,
Pulkovo 1942 (1),WGS 84, 0.0000, 0.0000,WGS 84
Reserved 1
Reserved 2
Magnetic Variation,,,E
Map Projection,Transverse Mercator,PolyCal,No,AutoCalOnly,No,BSBUseWPX,No
Point01,xy, 911, 79,in, deg, 49, 37.5991,N, 25, 43.5050,E, grid, , , ,N
Point02,xy, 1047, 595,in, deg, 49, 30.7240,N, 25, 46.5497,E, grid, , , ,N
Point03,xy, 582, 754,in, deg, 49, 28.4832,N, 25, 37.0659,E, grid, , , ,N
Point04,xy, 203, 282,in, deg, 49, 34.6298,N, 25, 29.0084,E, grid, , , ,N
Point05,xy, 644, 427,in, deg, 49, 32.8645,N, 25, 38.2211,E, grid, , , ,N
Point06,xy, 56, 662,in, deg, 49, 29.5259,N, 25, 26.2776,E, grid, , , ,N
Point07,xy, , ,in, deg, , ,N, , ,W, grid, , , ,N
Point08,xy, , ,in, deg, , ,N, , ,W, grid, , , ,N
Point09,xy, , ,in, deg, , ,N, , ,W, grid, , , ,N
Point10,xy, , ,in, deg, , ,, , ,, grid, , , ,
Point11,xy, , ,in, deg, , ,, , ,, grid, , , ,
Point12,xy, , ,in, deg, , ,, , ,, grid, , , ,
Point13,xy, , ,in, deg, , ,, , ,, grid, , , ,
Point14,xy, , ,in, deg, , ,, , ,, grid, , , ,
Point15,xy, , ,in, deg, , ,, , ,, grid, , , ,
Point16,xy, , ,in, deg, , ,, , ,, grid, , , ,
Point17,xy, , ,in, deg, , ,, , ,, grid, , , ,
Point18,xy, , ,in, deg, , ,, , ,, grid, , , ,
Point19,xy, , ,in, deg, , ,, , ,, grid, , , ,
Point20,xy, , ,in, deg, , ,, , ,, grid, , , ,
Point21,xy, , ,in, deg, , ,, , ,, grid, , , ,
Point22,xy, , ,in, deg, , ,, , ,, grid, , , ,
Point23,xy, , ,in, deg, , ,, , ,, grid, , , ,
Point24,xy, , ,in, deg, , ,, , ,, grid, , , ,
Point25,xy, , ,in, deg, , ,, , ,, grid, , , ,
Point26,xy, , ,in, deg, , ,, , ,, grid, , , ,
Point27,xy, , ,in, deg, , ,, , ,, grid, , , ,
Point28,xy, , ,in, deg, , ,, , ,, grid, , , ,
Point29,xy, , ,in, deg, , ,, , ,, grid, , , ,
Point30,xy, , ,in, deg, , ,, , ,, grid, , , ,
Projection Setup, 0.000000000, 27.000000000, 1.000000000, 5500000.00, 0.00,,,,,
Map Feature = MF ; Map Comment = MC These follow if they exist
Track File = TF These follow if they exist
Moving Map Parameters = MM? These follow if they exist
MM0,Yes
MMPNUM,4
MMPXY,1,29,28
MMPXY,2,1152,26
MMPXY,3,1151,826
MMPXY,4,28,828
MMPLL,1, 25.421934, 49.632901
MMPLL,2, 25.807201, 49.639463
MMPLL,3, 25.813391, 49.461452
MMPLL,4, 25.429520, 49.454925
MM1B,24.783361
MOP,Map Open Position,0,0
IWH,Map Image Width/Height,1181,853
