OziExplorer Map Data File Version 2.2
Uzhgorod
uzhgorod.jpg
1 ,Map Code,
Pulkovo 1942 (1),WGS 84, 0.0000, 0.0000,WGS 84
Reserved 1
Reserved 2
Magnetic Variation,,,E
Map Projection,Transverse Mercator,PolyCal,No,AutoCalOnly,No,BSBUseWPX,No
Point01,xy, 232, 104,in, deg, 48, 39.2949,N, 22, 16.0177,E, grid, , , ,N
Point02,xy, 856, 408,in, deg, 48, 35.1340,N, 22, 28.4581,E, grid, , , ,N
Point03,xy, 963, 655,in, deg, 48, 31.8773,N, 22, 30.4804,E, grid, , , ,N
Point04,xy, 694, 156,in, deg, 48, 38.4857,N, 22, 25.3201,E, grid, , , ,N
Point05,xy, 27, 492,in, deg, 48, 34.2109,N, 22, 11.9854,E, grid, , , ,N
Point06,xy, 439, 757,in, deg, 48, 30.5804,N, 22, 20.0688,E, grid, , , ,N
Point07,xy, , ,in, deg, , ,N, , ,W, grid, , , ,N
Point08,xy, , ,in, deg, , ,N, , ,W, grid, , , ,N
Point09,xy, , ,in, deg, , ,N, , ,W, grid, , , ,N
Point10,xy, , ,in, deg, , ,, , ,, grid, , , ,
Point11,xy, , ,in, deg, , ,, , ,, grid, , , ,
Point12,xy, , ,in, deg, , ,, , ,, grid, , , ,
Point13,xy, , ,in, deg, , ,, , ,, grid, , , ,
Point14,xy, , ,in, deg, , ,, , ,, grid, , , ,
Point15,xy, , ,in, deg, , ,, , ,, grid, , , ,
Point16,xy, , ,in, deg, , ,, , ,, grid, , , ,
Point17,xy, , ,in, deg, , ,, , ,, grid, , , ,
Point18,xy, , ,in, deg, , ,, , ,, grid, , , ,
Point19,xy, , ,in, deg, , ,, , ,, grid, , , ,
Point20,xy, , ,in, deg, , ,, , ,, grid, , , ,
Point21,xy, , ,in, deg, , ,, , ,, grid, , , ,
Point22,xy, , ,in, deg, , ,, , ,, grid, , , ,
Point23,xy, , ,in, deg, , ,, , ,, grid, , , ,
Point24,xy, , ,in, deg, , ,, , ,, grid, , , ,
Point25,xy, , ,in, deg, , ,, , ,, grid, , , ,
Point26,xy, , ,in, deg, , ,, , ,, grid, , , ,
Point27,xy, , ,in, deg, , ,, , ,, grid, , , ,
Point28,xy, , ,in, deg, , ,, , ,, grid, , , ,
Point29,xy, , ,in, deg, , ,, , ,, grid, , , ,
Point30,xy, , ,in, deg, , ,, , ,, grid, , , ,
Projection Setup, 0.000000000, 21.000000000, 1.000000000, 4500000.00, 0.00,,,,,
Map Feature = MF ; Map Comment = MC These follow if they exist
Track File = TF These follow if they exist
Moving Map Parameters = MM? These follow if they exist
MM0,Yes
MMPNUM,4
MMPXY,1,26,24
MMPXY,2,1157,23
MMPXY,3,1156,830
MMPXY,4,24,830
MMPLL,1, 22.199902, 48.673037
MMPLL,2, 22.575382, 48.669298
MMPLL,3, 22.571660, 48.491473
MMPLL,4, 22.197166, 48.495413
MM1B,24.448351
MOP,Map Open Position,0,0
IWH,Map Image Width/Height,1181,852
