OziExplorer Map Data File Version 2.2
Vinnitsa
vinnitsa.jpg
1 ,Map Code,
Pulkovo 1942 (1),WGS 84, 0.0000, 0.0000,WGS 84
Reserved 1
Reserved 2
Magnetic Variation,,,E
Map Projection,Transverse Mercator,PolyCal,No,AutoCalOnly,No,BSBUseWPX,No
Point01,xy, 317, 372,in, deg, 49, 14.3208,N, 28, 24.1742,E, grid, , , ,N
Point02,xy, 537, 159,in, deg, 49, 17.1014,N, 28, 28.6068,E, grid, , , ,N
Point03,xy, 923, 234,in, deg, 49, 16.0160,N, 28, 36.3736,E, grid, , , ,N
Point04,xy, 1078, 651,in, deg, 49, 10.4746,N, 28, 39.3552,E, grid, , , ,N
Point05,xy, 642, 561,in, deg, 49, 11.6726,N, 28, 30.6166,E, grid, , , ,N
Point06,xy, 146, 797,in, deg, 49, 8.6833,N, 28, 20.4512,E, grid, , , ,N
Point07,xy, , ,in, deg, , ,N, , ,W, grid, , , ,N
Point08,xy, , ,in, deg, , ,N, , ,W, grid, , , ,N
Point09,xy, , ,in, deg, , ,N, , ,W, grid, , , ,N
Point10,xy, , ,in, deg, , ,, , ,, grid, , , ,
Point11,xy, , ,in, deg, , ,, , ,, grid, , , ,
Point12,xy, , ,in, deg, , ,, , ,, grid, , , ,
Point13,xy, , ,in, deg, , ,, , ,, grid, , , ,
Point14,xy, , ,in, deg, , ,, , ,, grid, , , ,
Point15,xy, , ,in, deg, , ,, , ,, grid, , , ,
Point16,xy, , ,in, deg, , ,, , ,, grid, , , ,
Point17,xy, , ,in, deg, , ,, , ,, grid, , , ,
Point18,xy, , ,in, deg, , ,, , ,, grid, , , ,
Point19,xy, , ,in, deg, , ,, , ,, grid, , , ,
Point20,xy, , ,in, deg, , ,, , ,, grid, , , ,
Point21,xy, , ,in, deg, , ,, , ,, grid, , , ,
Point22,xy, , ,in, deg, , ,, , ,, grid, , , ,
Point23,xy, , ,in, deg, , ,, , ,, grid, , , ,
Point24,xy, , ,in, deg, , ,, , ,, grid, , , ,
Point25,xy, , ,in, deg, , ,, , ,, grid, , , ,
Point26,xy, , ,in, deg, , ,, , ,, grid, , , ,
Point27,xy, , ,in, deg, , ,, , ,, grid, , , ,
Point28,xy, , ,in, deg, , ,, , ,, grid, , , ,
Point29,xy, , ,in, deg, , ,, , ,, grid, , , ,
Point30,xy, , ,in, deg, , ,, , ,, grid, , , ,
Projection Setup, 0.000000000, 27.000000000, 1.000000000, 5500000.00, 0.00,,,,,
Map Feature = MF ; Map Comment = MC These follow if they exist
Track File = TF These follow if they exist
Moving Map Parameters = MM? These follow if they exist
MM0,Yes
MMPNUM,4
MMPXY,1,0,0
MMPXY,2,1181,0
MMPXY,3,1181,851
MMPXY,4,0,851
MMPLL,1, 28.297356, 49.321650
MMPLL,2, 28.695436, 49.318000
MMPLL,3, 28.688791, 49.129385
MMPLL,4, 28.292222, 49.133000
MM1B,24.501915
MOP,Map Open Position,0,0
IWH,Map Image Width/Height,1181,851
