OziExplorer Map Data File Version 2.2
Zaporozhye
zaporozhye.jpg
1 ,Map Code,
Pulkovo 1942 (1),WGS 84, 0.0000, 0.0000,WGS 84
Reserved 1
Reserved 2
Magnetic Variation,,,E
Map Projection,Transverse Mercator,PolyCal,No,AutoCalOnly,No,BSBUseWPX,No
Point01,xy, 582, 91,in, deg, 47, 55.1827,N, 35, 8.6114,E, grid, , , ,N
Point02,xy, 968, 162,in, deg, 47, 54.0661,N, 35, 16.2043,E, grid, , , ,N
Point03,xy, 892, 465,in, deg, 47, 50.1051,N, 35, 14.5307,E, grid, , , ,N
Point04,xy, 903, 765,in, deg, 47, 46.1172,N, 35, 14.5917,E, grid, , , ,N
Point05,xy, 526, 774,in, deg, 47, 46.1463,N, 35, 7.2517,E, grid, , , ,N
Point06,xy, 365, 269,in, deg, 47, 52.8030,N, 35, 4.2714,E, grid, , , ,N
Point07,xy, 311, 616,in, deg, 47, 48.2923,N, 35, 3.0766,E, grid, , , ,N
Point08,xy, , ,in, deg, , ,N, , ,W, grid, , , ,N
Point09,xy, , ,in, deg, , ,N, , ,W, grid, , , ,N
Point10,xy, , ,in, deg, , ,, , ,, grid, , , ,
Point11,xy, , ,in, deg, , ,, , ,, grid, , , ,
Point12,xy, , ,in, deg, , ,, , ,, grid, , , ,
Point13,xy, , ,in, deg, , ,, , ,, grid, , , ,
Point14,xy, , ,in, deg, , ,, , ,, grid, , , ,
Point15,xy, , ,in, deg, , ,, , ,, grid, , , ,
Point16,xy, , ,in, deg, , ,, , ,, grid, , , ,
Point17,xy, , ,in, deg, , ,, , ,, grid, , , ,
Point18,xy, , ,in, deg, , ,, , ,, grid, , , ,
Point19,xy, , ,in, deg, , ,, , ,, grid, , , ,
Point20,xy, , ,in, deg, , ,, , ,, grid, , , ,
Point21,xy, , ,in, deg, , ,, , ,, grid, , , ,
Point22,xy, , ,in, deg, , ,, , ,, grid, , , ,
Point23,xy, , ,in, deg, , ,, , ,, grid, , , ,
Point24,xy, , ,in, deg, , ,, , ,, grid, , , ,
Point25,xy, , ,in, deg, , ,, , ,, grid, , , ,
Point26,xy, , ,in, deg, , ,, , ,, grid, , , ,
Point27,xy, , ,in, deg, , ,, , ,, grid, , , ,
Point28,xy, , ,in, deg, , ,, , ,, grid, , , ,
Point29,xy, , ,in, deg, , ,, , ,, grid, , , ,
Point30,xy, , ,in, deg, , ,, , ,, grid, , , ,
Projection Setup, 0.000000000, 33.000000000, 1.000000000, 6500000.00, 0.00,,,,,
Map Feature = MF ; Map Comment = MC These follow if they exist
Track File = TF These follow if they exist
Moving Map Parameters = MM? These follow if they exist
MM0,Yes
MMPNUM,4
MMPXY,1,23,21
MMPXY,2,1160,20
MMPXY,3,1159,831
MMPXY,4,21,831
MMPLL,1, 34.961043, 47.937149
MMPLL,2, 35.333654, 47.931516
MMPLL,3, 35.326683, 47.752887
MMPLL,4, 34.955028, 47.758704
MM1B,24.491117
MOP,Map Open Position,0,0
IWH,Map Image Width/Height,1181,853
