OziExplorer Map Data File Version 2.2
Zhytomir
zhytomir.ozf2
1 ,Map Code,
Pulkovo 1942 (1),WGS 84, 0.0000, 0.0000,WGS 84
Reserved 1
Reserved 2
Magnetic Variation,,,E
Map Projection,Transverse Mercator,PolyCal,No,AutoCalOnly,No,BSBUseWPX,No
Point01,xy, 73, 273,in, deg, 50, 18.1290,N, 28, 30.4548,E, grid, , , ,N
Point02,xy, 599, 180,in, deg, 50, 19.2539,N, 28, 41.1960,E, grid, , , ,N
Point03,xy, 1018, 325,in, deg, 50, 17.2038,N, 28, 49.8679,E, grid, , , ,N
Point04,xy, 997, 778,in, deg, 50, 11.2756,N, 28, 49.1103,E, grid, , , ,N
Point05,xy, 536, 719,in, deg, 50, 12.1674,N, 28, 39.7307,E, grid, , , ,N
Point06,xy, 122, 659,in, deg, 50, 12.9936,N, 28, 31.1701,E, grid, , , ,N
Point07,xy, 522, 391,in, deg, 50, 16.4751,N, 28, 39.5440,E, grid, , , ,N
Point08,xy, , ,in, deg, , ,N, , ,W, grid, , , ,N
Point09,xy, , ,in, deg, , ,N, , ,W, grid, , , ,N
Point10,xy, , ,in, deg, , ,N, , ,W, grid, , , ,N
Point11,xy, , ,in, deg, , ,N, , ,W, grid, , , ,N
Point12,xy, , ,in, deg, , ,N, , ,W, grid, , , ,N
Point13,xy, , ,in, deg, , ,N, , ,W, grid, , , ,N
Point14,xy, , ,in, deg, , ,N, , ,W, grid, , , ,N
Point15,xy, , ,in, deg, , ,N, , ,W, grid, , , ,N
Point16,xy, , ,in, deg, , ,N, , ,W, grid, , , ,N
Point17,xy, , ,in, deg, , ,N, , ,W, grid, , , ,N
Point18,xy, , ,in, deg, , ,N, , ,W, grid, , , ,N
Point19,xy, , ,in, deg, , ,N, , ,W, grid, , , ,N
Point20,xy, , ,in, deg, , ,N, , ,W, grid, , , ,N
Point21,xy, , ,in, deg, , ,N, , ,W, grid, , , ,N
Point22,xy, , ,in, deg, , ,N, , ,W, grid, , , ,N
Point23,xy, , ,in, deg, , ,N, , ,W, grid, , , ,N
Point24,xy, , ,in, deg, , ,N, , ,W, grid, , , ,N
Point25,xy, , ,in, deg, , ,N, , ,W, grid, , , ,N
Point26,xy, , ,in, deg, , ,N, , ,W, grid, , , ,N
Point27,xy, , ,in, deg, , ,N, , ,W, grid, , , ,N
Point28,xy, , ,in, deg, , ,N, , ,W, grid, , , ,N
Point29,xy, , ,in, deg, , ,N, , ,W, grid, , , ,N
Point30,xy, , ,in, deg, , ,N, , ,W, grid, , , ,N
Projection Setup, 0.000000000, 27.000000000, 1.000000000, 5500000.00, 0.00,,,,,
Map Feature = MF ; Map Comment = MC These follow if they exist
Track File = TF These follow if they exist
Moving Map Parameters = MM? These follow if they exist
MM0,Yes
MMPNUM,4
MMPXY,1,23,21
MMPXY,2,1159,21
MMPXY,3,1157,830
MMPXY,4,21,830
MMPLL,1, 28.491319, 50.357508
MMPLL,2, 28.881595, 50.353370
MMPLL,3, 28.873064, 50.175679
MMPLL,4, 28.484237, 50.179776
MM1B,24.447039
MOP,Map Open Position,0,0
IWH,Map Image Width/Height,1181,853
