OziExplorer Map Data File Version 2.2
Dnepr50k
dnepr50k1.ozf2
1 ,Map Code,
Pulkovo 1942 (2),, 0.0000, 0.0000,WGS 84
Reserved 1
Reserved 2
Magnetic Variation,,,E
Map Projection,Mercator,PolyCal,No,AutoCalOnly,No,BSBUseWPX,No
Point01,xy, 58, 66,in, deg, 50, 42.24,N, 30, 22.2,E, grid, , , ,N
Point02,xy, 2238, 4104,in, deg, 50, 23.916,N, 30, 38.154,E, grid, , , ,N
Point03,xy, 2968, 416,in, deg, 50, 40.824,N, 30, 43.056,E, grid, , , ,N
Point04,xy, 1556, 4252,in, deg, 50, 23.208,N, 30, 33.294,E, grid, , , ,N
Point05,xy, 1459, 2875,in, deg, 50, 29.496,N, 30, 32.55,E, grid, , , ,N
Point06,xy, , ,in, deg, , ,N, , ,E, grid, , , ,N
Point07,xy, , ,in, deg, , ,N, , ,E, grid, , , ,N
Point08,xy, , ,in, deg, , ,N, , ,E, grid, , , ,N
Point09,xy, , ,in, deg, , ,N, , ,E, grid, , , ,N
Point10,xy, , ,in, deg, , ,N, , ,W, grid, , , ,N
Point11,xy, , ,in, deg, , ,N, , ,W, grid, , , ,N
Point12,xy, , ,in, deg, , ,N, , ,W, grid, , , ,N
Point13,xy, , ,in, deg, , ,N, , ,W, grid, , , ,N
Point14,xy, , ,in, deg, , ,N, , ,W, grid, , , ,N
Point15,xy, , ,in, deg, , ,N, , ,W, grid, , , ,N
Point16,xy, , ,in, deg, , ,N, , ,W, grid, , , ,N
Point17,xy, , ,in, deg, , ,N, , ,W, grid, , , ,N
Point18,xy, , ,in, deg, , ,N, , ,W, grid, , , ,N
Point19,xy, , ,in, deg, , ,N, , ,W, grid, , , ,N
Point20,xy, , ,in, deg, , ,N, , ,W, grid, , , ,N
Point21,xy, , ,in, deg, , ,N, , ,W, grid, , , ,N
Point22,xy, , ,in, deg, , ,N, , ,W, grid, , , ,N
Point23,xy, , ,in, deg, , ,N, , ,W, grid, , , ,N
Point24,xy, , ,in, deg, , ,N, , ,W, grid, , , ,N
Point25,xy, , ,in, deg, , ,N, , ,W, grid, , , ,N
Point26,xy, , ,in, deg, , ,N, , ,W, grid, , , ,N
Point27,xy, , ,in, deg, , ,N, , ,W, grid, , , ,N
Point28,xy, , ,in, deg, , ,N, , ,W, grid, , , ,N
Point29,xy, , ,in, deg, , ,N, , ,W, grid, , , ,N
Point30,xy, , ,in, deg, , ,N, , ,W, grid, , , ,N
Projection Setup,,,,,,,,,,
Map Feature = MF ; Map Comment = MC These follow if they exist
Track File = TF These follow if they exist
Moving Map Parameters = MM? These follow if they exist
MM0,Yes
MMPNUM,10
MMPXY,1,0,0
MMPXY,2,3051,0
MMPXY,3,3048,3068
MMPXY,4,2288,3065
MMPXY,5,2290,4602
MMPXY,6,1088,4598
MMPXY,7,1095,2968
MMPXY,8,658,2965
MMPXY,9,655,1230
MMPXY,10,0,1230
MMPLL,1, 30.363249, 50.708948
MMPLL,2, 30.726904, 50.712036
MMPLL,3, 30.731226, 50.478591
MMPLL,4, 30.640635, 50.478046
MMPLL,5, 30.643218, 50.360659
MMPLL,6, 30.499943, 50.359740
MMPLL,7, 30.498291, 50.484231
MMPLL,8, 30.446199, 50.484016
MMPLL,9, 30.443196, 50.616156
MMPLL,10, 30.365125, 50.615492
MM1B,8.449280
MOP,Map Open Position,2200,3300
IWH,Map Image Width/Height,3051,4605
