OziExplorer Map Data File Version 2.2
Dnepr50k
dnepr50k2.ozf2
1 ,Map Code,
Pulkovo 1942 (2),, 0.0000, 0.0000,WGS 84
Reserved 1
Reserved 2
Magnetic Variation,,,E
Map Projection,Mercator,PolyCal,No,AutoCalOnly,No,BSBUseWPX,No
Point01,xy, 45, 224,in, deg, 50, 20.79,N, 30, 32.226,E, grid, , , ,N
Point02,xy, 2110, 177,in, deg, 50, 21.012,N, 30, 46.926,E, grid, , , ,N
Point03,xy, 2945, 2791,in, deg, 50, 9.09,N, 30, 52.806,E, grid, , , ,N
Point04,xy, 565, 2705,in, deg, 50, 9.48,N, 30, 35.922,E, grid, , , ,N
Point05,xy, 743, 1349,in, deg, 50, 15.654,N, 30, 37.218,E, grid, , , ,N
Point06,xy, , ,in, deg, , ,N, , ,E, grid, , , ,N
Point07,xy, , ,in, deg, , ,N, , ,E, grid, , , ,N
Point08,xy, , ,in, deg, , ,N, , ,E, grid, , , ,N
Point09,xy, , ,in, deg, , ,N, , ,E, grid, , , ,N
Point10,xy, , ,in, deg, , ,, , ,, grid, , , ,
Point11,xy, , ,in, deg, , ,, , ,, grid, , , ,
Point12,xy, , ,in, deg, , ,, , ,, grid, , , ,
Point13,xy, , ,in, deg, , ,, , ,, grid, , , ,
Point14,xy, , ,in, deg, , ,, , ,, grid, , , ,
Point15,xy, , ,in, deg, , ,, , ,, grid, , , ,
Point16,xy, , ,in, deg, , ,, , ,, grid, , , ,
Point17,xy, , ,in, deg, , ,, , ,, grid, , , ,
Point18,xy, , ,in, deg, , ,, , ,, grid, , , ,
Point19,xy, , ,in, deg, , ,, , ,, grid, , , ,
Point20,xy, , ,in, deg, , ,, , ,, grid, , , ,
Point21,xy, , ,in, deg, , ,, , ,, grid, , , ,
Point22,xy, , ,in, deg, , ,, , ,, grid, , , ,
Point23,xy, , ,in, deg, , ,, , ,, grid, , , ,
Point24,xy, , ,in, deg, , ,, , ,, grid, , , ,
Point25,xy, , ,in, deg, , ,, , ,, grid, , , ,
Point26,xy, , ,in, deg, , ,, , ,, grid, , , ,
Point27,xy, , ,in, deg, , ,, , ,, grid, , , ,
Point28,xy, , ,in, deg, , ,, , ,, grid, , , ,
Point29,xy, , ,in, deg, , ,, , ,, grid, , , ,
Point30,xy, , ,in, deg, , ,, , ,, grid, , , ,
Projection Setup,,,,,,,,,,
Map Feature = MF ; Map Comment = MC These follow if they exist
Track File = TF These follow if they exist
Moving Map Parameters = MM? These follow if they exist
MM0,Yes
MMPNUM,12
MMPXY,1,0,0
MMPXY,2,2288,2
MMPXY,3,2288,1720
MMPXY,4,2750,1728
MMPXY,5,2745,2388
MMPXY,6,3052,2385
MMPXY,7,3052,3065
MMPXY,8,488,3068
MMPXY,9,490,2565
MMPXY,10,412,2565
MMPXY,11,408,1648
MMPXY,12,0,1648
MMPLL,1, 30.532202, 50.363440
MMPLL,2, 30.803260, 50.363433
MMPLL,3, 30.802739, 50.233128
MMPLL,4, 30.857186, 50.232397
MMPLL,5, 30.856722, 50.182183
MMPLL,6, 30.893061, 50.182659
MMPLL,7, 30.892948, 50.130412
MMPLL,8, 30.589693, 50.130249
MMPLL,9, 30.590013, 50.168564
MMPLL,10, 30.580544, 50.168559
MMPLL,11, 30.580460, 50.238559
MMPLL,12, 30.531930, 50.238761
MM1B,8.438585
MOP,Map Open Position,0,0
IWH,Map Image Width/Height,3054,3072
