OziExplorer Map Data File Version 2.2
Ukraine 1:1250000
ua-map-1.25m.jpg
1 ,Map Code,
Pulkovo 1942 (1),WGS 84, 0.0000, 0.0000,WGS 84
Reserved 1
Reserved 2
Magnetic Variation,,,E
Map Projection,(EQC) Equidistant Conic,PolyCal,Yes,AutoCalOnly,No,BSBUseWPX,No
Point01,xy, 220, 124,in, deg, 52, 0,N, 22, 0,E, grid, , , ,N
Point02,xy, 2962, 281,in, deg, 52, 0,N, 31, 0,E, grid, , , ,N
Point03,xy, 5095, 194,in, deg, 52, 0,N, 38, 0,E, grid, , , ,N
Point04,xy, 5605, 2067,in, deg, 48, 0,N, 39, 0,E, grid, , , ,N
Point05,xy, 5407, 3526,in, deg, 45, 0,N, 38, 0,E, grid, , , ,N
Point06,xy, 2983, 3628,in, deg, 45, 0,N, 31, 0,E, grid, , , ,N
Point07,xy, 2282, 3622,in, deg, 45, 0,N, 29, 0,E, grid, , , ,N
Point08,xy, 329, 2058,in, deg, 48, 0,N, 23, 0,E, grid, , , ,N
Point09,xy, 2970, 2193,in, deg, 48, 0,N, 31, 0,E, grid, , , ,N
Point10,xy, , ,in, deg, , ,N, , ,W, grid, , , ,N
Point11,xy, , ,in, deg, , ,N, , ,W, grid, , , ,N
Point12,xy, , ,in, deg, , ,N, , ,W, grid, , , ,N
Point13,xy, , ,in, deg, , ,N, , ,W, grid, , , ,N
Point14,xy, , ,in, deg, , ,N, , ,W, grid, , , ,N
Point15,xy, , ,in, deg, , ,N, , ,W, grid, , , ,N
Point16,xy, , ,in, deg, , ,N, , ,W, grid, , , ,N
Point17,xy, , ,in, deg, , ,N, , ,W, grid, , , ,N
Point18,xy, , ,in, deg, , ,N, , ,W, grid, , , ,N
Point19,xy, , ,in, deg, , ,N, , ,W, grid, , , ,N
Point20,xy, , ,in, deg, , ,N, , ,W, grid, , , ,N
Point21,xy, , ,in, deg, , ,N, , ,W, grid, , , ,N
Point22,xy, , ,in, deg, , ,N, , ,W, grid, , , ,N
Point23,xy, , ,in, deg, , ,N, , ,W, grid, , , ,N
Point24,xy, , ,in, deg, , ,N, , ,W, grid, , , ,N
Point25,xy, , ,in, deg, , ,N, , ,W, grid, , , ,N
Point26,xy, , ,in, deg, , ,N, , ,W, grid, , , ,N
Point27,xy, , ,in, deg, , ,N, , ,W, grid, , , ,N
Point28,xy, , ,in, deg, , ,N, , ,W, grid, , , ,N
Point29,xy, , ,in, deg, , ,N, , ,W, grid, , , ,N
Point30,xy, , ,in, deg, , ,N, , ,W, grid, , , ,N
Projection Setup,, 31.000000000,,,, 48.000000000, 49.000000000,,,
Map Feature = MF ; Map Comment = MC These follow if they exist
Track File = TF These follow if they exist
Moving Map Parameters = MM? These follow if they exist
MM0,No
MMPNUM,4
MMPXY,1,19,21
MMPXY,2,5998,11
MMPXY,3,5998,3998
MMPXY,4,14,3985
MMPLL,1, 21.313719, 52.164909
MMPLL,2, 41.020385, 52.188545
MMPLL,3, 39.524192, 43.903523
MMPLL,4, 22.633743, 43.933725
MM1B,226.042112
MOP,Map Open Position,0,0
IWH,Map Image Width/Height,6000,4000
