OziExplorer Map Data File Version 2.2
ukraine10km.png
ukraine10km.png
1 ,Map Code,
WGS 84,WGS 84, 0.0000, 0.0000,WGS 84
Reserved 1
Reserved 2
Magnetic Variation,,,E
Map Projection,Transverse Mercator,PolyCal,No,AutoCalOnly,No,BSBUseWPX,No
Point01,xy, 322, 39,in, deg, 52, 0.0000,N, 22, 0.0000,E, grid, , , ,N
Point02,xy, 6156, 47,in, deg, 52, 0.0000,N, 40, 0.0000,E, grid, , , ,N
Point03,xy, 5892, 4309,in, deg, 44, 0.0000,N, 38, 0.0000,E, grid, , , ,N
Point04,xy, 587, 4318,in, deg, 44, 0.0000,N, 24, 0.0000,E, grid, , , ,N
Point05,xy, 3242, 225,in, deg, 52, 0.0000,N, 31, 0.0000,E, grid, , , ,N
Point06,xy, 6346, 1618,in, deg, 49, 0.0000,N, 40, 0.0000,E, grid, , , ,N
Point07,xy, 3618, 4161,in, deg, 44, 0.0000,N, 32, 0.0000,E, grid, , , ,N
Point08,xy, 192, 1089,in, deg, 50, 0.0000,N, 22, 0.0000,E, grid, , , ,N
Point09,xy, 3241, 1277,in, deg, 50, 0.0000,N, 31, 0.0000,E, grid, , , ,N
Point10,xy, , ,in, deg, , ,N, , ,W, grid, , , ,N
Point11,xy, , ,in, deg, , ,N, , ,W, grid, , , ,N
Point12,xy, , ,in, deg, , ,N, , ,W, grid, , , ,N
Point13,xy, , ,in, deg, , ,N, , ,W, grid, , , ,N
Point14,xy, , ,in, deg, , ,N, , ,W, grid, , , ,N
Point15,xy, , ,in, deg, , ,N, , ,W, grid, , , ,N
Point16,xy, , ,in, deg, , ,N, , ,W, grid, , , ,N
Point17,xy, , ,in, deg, , ,N, , ,W, grid, , , ,N
Point18,xy, , ,in, deg, , ,N, , ,W, grid, , , ,N
Point19,xy, , ,in, deg, , ,N, , ,W, grid, , , ,N
Point20,xy, , ,in, deg, , ,N, , ,W, grid, , , ,N
Point21,xy, , ,in, deg, , ,N, , ,W, grid, , , ,N
Point22,xy, , ,in, deg, , ,N, , ,W, grid, , , ,N
Point23,xy, , ,in, deg, , ,N, , ,W, grid, , , ,N
Point24,xy, , ,in, deg, , ,N, , ,W, grid, , , ,N
Point25,xy, , ,in, deg, , ,N, , ,W, grid, , , ,N
Point26,xy, , ,in, deg, , ,N, , ,W, grid, , , ,N
Point27,xy, , ,in, deg, , ,N, , ,W, grid, , , ,N
Point28,xy, , ,in, deg, , ,N, , ,W, grid, , , ,N
Point29,xy, , ,in, deg, , ,N, , ,W, grid, , , ,N
Point30,xy, , ,in, deg, , ,N, , ,W, grid, , , ,N
Projection Setup, 0.000000000, 33.000000000, 1.000000000, 6500000.00, 0.00,,,,,
Map Feature = MF ; Map Comment = MC These follow if they exist
Track File = TF These follow if they exist
Moving Map Parameters = MM? These follow if they exist
MM0,Yes
MMPNUM,4
MMPXY,1,25,24
MMPXY,2,6449,24
MMPXY,3,6450,2481
MMPXY,4,24,2221
MMPLL,1, 21.084652, 51.984443
MMPLL,2, 40.907058, 51.997365
MMPLL,3, 39.993117, 47.264713
MMPLL,4, 21.923764, 47.774753
MM1B,211.589221
MOP,Map Open Position,0,0
IWH,Map Image Width/Height,6470,4440
