OziExplorer Map Data File Version 2.2
Ukraine Roads
ukraine_roads.ozf2
1 ,Map Code,
Pulkovo 1942 (1),WGS 84, 0.0000, 0.0000,WGS 84
Reserved 1
Reserved 2
Magnetic Variation,,,E
Map Projection,Transverse Mercator,PolyCal,No,AutoCalOnly,No,BSBUseWPX,No
Point01,xy, 1424, 260,in, deg, 52, 0.0000,N, 24, 0.0000,E, grid, , , ,N
Point02,xy, 4266, 412,in, deg, 52, 0.0000,N, 30, 0.0000,E, grid, , , ,N
Point03,xy, 7475, 294,in, deg, 52, 0.0000,N, 37, 0.0000,E, grid, , , ,N
Point04,xy, 711, 2474,in, deg, 49, 0.0000,N, 23, 0.0000,E, grid, , , ,N
Point05,xy, 5178, 2671,in, deg, 49, 0.0000,N, 32, 0.0000,E, grid, , , ,N
Point06,xy, 9139, 2400,in, deg, 49, 0.0000,N, 40, 0.0000,E, grid, , , ,N
Point07,xy, 2581, 4893,in, deg, 46, 0.0000,N, 27, 0.0000,E, grid, , , ,N
Point08,xy, 5754, 5674,in, deg, 45, 0.0000,N, 33, 0.0000,E, grid, , , ,N
Point09,xy, 8422, 5514,in, deg, 45, 0.0000,N, 38, 0.0000,E, grid, , , ,N
Point10,xy, , ,in, deg, , ,N, , ,W, grid, , , ,N
Point11,xy, , ,in, deg, , ,N, , ,W, grid, , , ,N
Point12,xy, , ,in, deg, , ,N, , ,W, grid, , , ,N
Point13,xy, , ,in, deg, , ,N, , ,W, grid, , , ,N
Point14,xy, , ,in, deg, , ,N, , ,W, grid, , , ,N
Point15,xy, , ,in, deg, , ,N, , ,W, grid, , , ,N
Point16,xy, , ,in, deg, , ,N, , ,W, grid, , , ,N
Point17,xy, , ,in, deg, , ,N, , ,W, grid, , , ,N
Point18,xy, , ,in, deg, , ,N, , ,W, grid, , , ,N
Point19,xy, , ,in, deg, , ,N, , ,W, grid, , , ,N
Point20,xy, , ,in, deg, , ,N, , ,W, grid, , , ,N
Point21,xy, , ,in, deg, , ,N, , ,W, grid, , , ,N
Point22,xy, , ,in, deg, , ,N, , ,W, grid, , , ,N
Point23,xy, , ,in, deg, , ,N, , ,W, grid, , , ,N
Point24,xy, , ,in, deg, , ,N, , ,W, grid, , , ,N
Point25,xy, , ,in, deg, , ,N, , ,W, grid, , , ,N
Point26,xy, , ,in, deg, , ,N, , ,W, grid, , , ,N
Point27,xy, , ,in, deg, , ,N, , ,W, grid, , , ,N
Point28,xy, , ,in, deg, , ,N, , ,W, grid, , , ,N
Point29,xy, , ,in, deg, , ,N, , ,W, grid, , , ,N
Point30,xy, , ,in, deg, , ,N, , ,W, grid, , , ,N
Projection Setup, 0.000000000, 33.000000000, 1.000000000, 6500000.00, 0.00,,,,,
Map Feature = MF ; Map Comment = MC These follow if they exist
Track File = TF These follow if they exist
Moving Map Parameters = MM? These follow if they exist
MM0,Yes
MMPNUM,16
MMPXY,1,1014,86
MMPXY,2,1013,1455
MMPXY,3,86,1457
MMPXY,4,86,4196
MMPXY,5,1944,4191
MMPXY,6,1943,5563
MMPXY,7,5196,5553
MMPXY,8,5195,6226
MMPXY,9,7975,6219
MMPXY,10,7976,5547
MMPXY,11,8446,5544
MMPXY,12,8445,4175
MMPXY,13,9376,4173
MMPXY,14,9374,1432
MMPXY,15,7517,1439
MMPXY,16,7518,69
MMPLL,1, 23.059668, 52.171160
MMPLL,2, 23.374470, 50.376995
MMPLL,3, 21.480600, 50.235627
MMPLL,4, 22.148287, 46.659561
MMPLL,5, 25.701852, 46.879409
MMPLL,6, 25.875070, 45.069439
MMPLL,7, 31.965703, 45.176532
MMPLL,8, 31.950577, 44.283256
MMPLL,9, 37.075718, 44.118350
MMPLL,10, 37.169599, 45.006758
MMPLL,11, 38.044624, 44.957402
MMPLL,12, 38.271050, 46.763942
MMPLL,13, 40.052301, 46.634720
MMPLL,14, 40.700052, 50.232213
MMPLL,15, 36.878072, 50.484857
MMPLL,16, 37.105823, 52.294126
MM1B,147.425748
MOP,Map Open Position,0,0
IWH,Map Image Width/Height,9449,6289
